FILENAME: O4611158.NES.1153710.tif
QUADRANGLE_NAME: WILLOW SPRINGS
QUADRANT: NE
WEST_LONGITUDE: -111 48 45.00000
EAST_LONGITUDE: -111 45 0.00000
NORTH_LATITUDE: 46 7 30.00000
SOUTH_LATITUDE: 46 3 45.00000
PRODUCTION_DATE: 2001 08 02
RASTER_ORDER: LEFT_RIGHT/TOP_BOTTOM
BAND_ORGANIZATION: SINGLE FILE
BAND_CONTENT: BLACK&WHITE
BAND_CONTENT: UNDEFINED
BAND_CONTENT: UNDEFINED
BITS_PER_PIXEL: 8
SAMPLES_AND_LINES: 5610 7650
HORIZONTAL_DATUM: NAD83
HORIZONTAL_COORDINATE_SYSTEM: UTM
COORDINATE_ZONE: 12
HORIZONTAL_UNITS: METERS
HORIZONTAL_RESOLUTION: 1.00000
SECONDARY_HORIZONTAL_DATUM: NAD27
XY_ORIGIN: 436770.00000 5108580.00000
SECONDARY_XY_ORIGIN: 436831.25300 5108369.31400
NATION: US
STATE: MT
NW_QUAD_CORNER_XY: 437228.14800 5108256.84800
NE_QUAD_CORNER_XY: 442056.74100 5108209.38400
SE_QUAD_CORNERY_XY: 441991.24600 5101265.11300
SW_QUAD_CORNER_XY: 437157.19400 5101312.58100
SECONDARY_NW_QUAD_XY: 437226.24900 5108038.80400
SECONDARY_NE_QUAD_XY: 442054.98800 5107991.33900
SECONDARY_SE_QUAD_XY: 441989.49300 5101047.10800
SECONDARY_SW_QUAD_XY: 437155.29600 5101094.57700
RMSE_XY: 1.03000
IMAGE_SOURCE: BLACK AND WHITE FILM
SOURCE_IMAGE_ID: NAPP 9181 209
SOURCE_IMAGE_DATE: 1997 09 09
SOURCE_DEM_DATE: 1980 00 00
AGENCY: WESTERN MAPPING CENTER (WMC)
PRODUCER: ANALYTICAL SURVEYS INC.
PRODUCTION_SYSTEM: ORBIT OR_RECTIFY V.5.2
COMPRESSION: UNDEFINED
STANDARD_VERSION: 1996 12
METADATA_DATE: 2001 08 02
DATA_FILE_SIZE: 42922110
BYTE_COUNT: 5610
