FILENAME: O4611161.NES.998297.tif
QUADRANGLE_NAME: LOMBARD
QUADRANT: NE
WEST_LONGITUDE: -111 26 15.00000
EAST_LONGITUDE: -111 22 30.00000
NORTH_LATITUDE: 46 7 30.00000
SOUTH_LATITUDE: 46 3 45.00000
PRODUCTION_DATE: 1999 4 23
RASTER_ORDER: LEFT_RIGHT/TOP_BOTTOM
BAND_ORGANIZATION: SINGLE FILE
BAND_CONTENT: BLACK&WHITE
BAND_CONTENT: UNDEFINED
BAND_CONTENT: UNDEFINED
BITS_PER_PIXEL: 8
SAMPLES_AND_LINES: 5528 7580
HORIZONTAL_DATUM: NAD83
HORIZONTAL_COORDINATE_SYSTEM: UTM
COORDINATE_ZONE: 12
HORIZONTAL_UNITS: METERS
HORIZONTAL_RESOLUTION: 1.00000
SECONDARY_HORIZONTAL_DATUM: NAD27
XY_ORIGIN: 465799.00000 5108330.00000
SECONDARY_XY_ORIGIN: 465859.71700 5108119.48700
NATION: US
STATE: MT
NW_QUAD_CORNER_XY: 466199.74100 5108029.02600
NE_QUAD_CORNER_XY: 471028.34700 5108004.34600
SE_QUAD_CORNERY_XY: 470995.60100 5101060.05900
SW_QUAD_CORNER_XY: 466161.53700 5101084.74100
SECONDARY_NW_QUAD_XY: 466198.71900 5107810.97600
SECONDARY_NE_QUAD_XY: 471027.47100 5107786.29500
SECONDARY_SE_QUAD_XY: 470994.72500 5100842.04800
SECONDARY_SW_QUAD_XY: 466160.51500 5100866.73100
RMSE_XY: 1.30000
IMAGE_SOURCE: BLACK AND WHITE FILM
SOURCE_IMAGE_ID: NAPP 9171 168
SOURCE_IMAGE_DATE: 1997 8 22
SOURCE_DEM_DATE: 1980 0 0
AGENCY: ROCKY MOUNTAIN MAPPING CENTER (RMMC)
PRODUCER: ROCKY MOUNTAIN MAPPING CENTER (RMMC)
PRODUCTION_SYSTEM: DV2.6.3 10/9OV2.4 5/95
COMPRESSION: UNDEFINED
STANDARD_VERSION: 1996 12
METADATA_DATE: 1999 4 23
DATA_FILE_SIZE: 41907768
BYTE_COUNT: 5528
