FILENAME: O4611163.SES.998340.tif
QUADRANGLE_NAME: MAUDLOW
QUADRANT: SE
WEST_LONGITUDE: -111 11 15.00000
EAST_LONGITUDE: -111 7 30.00000
NORTH_LATITUDE: 46 3 45.00000
SOUTH_LATITUDE: 46 0 0.00000
PRODUCTION_DATE: 1999 4 26
RASTER_ORDER: LEFT_RIGHT/TOP_BOTTOM
BAND_ORGANIZATION: SINGLE FILE
BAND_CONTENT: BLACK&WHITE
BAND_CONTENT: UNDEFINED
BAND_CONTENT: UNDEFINED
BITS_PER_PIXEL: 8
SAMPLES_AND_LINES: 5512 7565
HORIZONTAL_DATUM: NAD83
HORIZONTAL_COORDINATE_SYSTEM: UTM
COORDINATE_ZONE: 12
HORIZONTAL_UNITS: METERS
HORIZONTAL_RESOLUTION: 1.00000
SECONDARY_HORIZONTAL_DATUM: NAD27
XY_ORIGIN: 485119.00000 5101310.00000
SECONDARY_XY_ORIGIN: 485179.45200 5101099.72000
NATION: US
STATE: MT
NW_QUAD_CORNER_XY: 485497.79800 5101008.79600
NE_QUAD_CORNER_XY: 490331.86500 5100999.30300
SE_QUAD_CORNERY_XY: 490320.96100 5094055.08700
SW_QUAD_CORNER_XY: 485481.44200 5094064.58100
SECONDARY_NW_QUAD_XY: 485497.36000 5100790.78400
SECONDARY_NE_QUAD_XY: 490331.57300 5100781.29100
SECONDARY_SE_QUAD_XY: 490320.66900 5093837.11600
SECONDARY_SW_QUAD_XY: 485481.00400 5093846.61000
RMSE_XY: 1.90000
IMAGE_SOURCE: BLACK AND WHITE FILM
SOURCE_IMAGE_ID: NAPP 9180 070
SOURCE_IMAGE_DATE: 1997 9 7
SOURCE_DEM_DATE: 1980 0 0
AGENCY: ROCKY MOUNTAIN MAPPING CENTER (RMMC)
PRODUCER: ROCKY MOUNTAIN MAPPING CENTER (RMMC)
PRODUCTION_SYSTEM: DV2.6.3 10/9OV2.4 5/95
COMPRESSION: UNDEFINED
STANDARD_VERSION: 1996 12
METADATA_DATE: 1999 4 27
DATA_FILE_SIZE: 41703792
BYTE_COUNT: 5512
