FILENAME: O4611163.NES.998338.tif
QUADRANGLE_NAME: MAUDLOW
QUADRANT: NE
WEST_LONGITUDE: -111 11 15.00000
EAST_LONGITUDE: -111 7 30.00000
NORTH_LATITUDE: 46 7 30.00000
SOUTH_LATITUDE: 46 3 45.00000
PRODUCTION_DATE: 1999 4 26
RASTER_ORDER: LEFT_RIGHT/TOP_BOTTOM
BAND_ORGANIZATION: SINGLE FILE
BAND_CONTENT: BLACK&WHITE
BAND_CONTENT: UNDEFINED
BAND_CONTENT: UNDEFINED
BITS_PER_PIXEL: 8
SAMPLES_AND_LINES: 5508 7564
HORIZONTAL_DATUM: NAD83
HORIZONTAL_COORDINATE_SYSTEM: UTM
COORDINATE_ZONE: 12
HORIZONTAL_UNITS: METERS
HORIZONTAL_RESOLUTION: 1.00000
SECONDARY_HORIZONTAL_DATUM: NAD27
XY_ORIGIN: 485136.00000 5108254.00000
SECONDARY_XY_ORIGIN: 485196.34600 5108043.60700
NATION: US
STATE: MT
NW_QUAD_CORNER_XY: 485514.17000 5107953.08800
NE_QUAD_CORNER_XY: 490342.78000 5107943.59600
SE_QUAD_CORNERY_XY: 490331.86500 5100999.30300
SW_QUAD_CORNER_XY: 485497.79800 5101008.79600
SECONDARY_NW_QUAD_XY: 485513.73200 5107735.03500
SECONDARY_NE_QUAD_XY: 490342.48800 5107725.54200
SECONDARY_SE_QUAD_XY: 490331.57300 5100781.29100
SECONDARY_SW_QUAD_XY: 485497.36000 5100790.78400
RMSE_XY: 1.00000
IMAGE_SOURCE: BLACK AND WHITE FILM
SOURCE_IMAGE_ID: NAPP 9180 072
SOURCE_IMAGE_DATE: 1997 9 7
SOURCE_DEM_DATE: 1980 0 0
AGENCY: ROCKY MOUNTAIN MAPPING CENTER (RMMC)
PRODUCER: ROCKY MOUNTAIN MAPPING CENTER (RMMC)
PRODUCTION_SYSTEM: DV2.6.3 10/9OV2.4 5/95
COMPRESSION: UNDEFINED
STANDARD_VERSION: 1996 12
METADATA_DATE: 1999 4 27
DATA_FILE_SIZE: 41668020
BYTE_COUNT: 5508
