BEGIN_USGS_DOQ_HEADER *
QUADRANGLE_NAME "UTICA" 3.75 or 7.5-min. name*
QUADRANT SE quadrant indicator if cell size = 3.75-minutes*
WEST_LONGITUDE -110 3 45.000 signed deg min sec SDDD MM SS.SSS*
EAST_LONGITUDE -110 0 0.000 signed deg min sec SDDD MM SS.SSS*
NORTH_LATITUDE 46 56 15.000 signed deg min sec SDDD MM SS.SSS*
SOUTH_LATITUDE 46 52 30.000 signed deg min sec SDDD MM SS.SSS*
PRODUCTION_DATE 2002 12 13 yyyy mm dd*
RASTER_ORDER LEFT_RIGHT/TOP_BOTTOM video display order*
BAND_ORGANIZATION "SINGLE FILE" single file or BSQ, or BIL or BIP*
BAND_CONTENT BLACK&WHITE black&white or red green blue*
BITS_PER_PIXEL 8 radiometric resolution*
SAMPLES_AND_LINES 5505 7612 number of columns and rows*
HORIZONTAL_DATUM NAD83 primary horizontal datum*
HORIZONTAL_COORDINATE_SYSTEM UTM *
COORDINATE_ZONE 12 coordinate system zone number*
HORIZONTAL_UNITS METERS coordinate system units*
HORIZONTAL_RESOLUTION 1.00 pixel horiz. ground sample distance*
SECONDARY_HORIZONTAL_DATUM NAD27 secondary horizontal datum*
XY_ORIGIN 570999.000 5199005.000 coord. of upper left pixel pri. datum*
SECONDARY_XY_ORIGIN 571058.531 5198791.380 coord upper left pixel sec datum*
NATION US nation code*
STATE MT state fip code*
NW_QUAD_CORNER_XY 571356.838 5198645.289 XY coords. of pri. NW quad corner*
NE_QUAD_CORNER_XY 576113.929 5198704.059 XY coords. of pri. NE quad corner*
SE_QUAD_CORNER_XY 576202.455 5191758.844 XY coords. of pri. SE quad corner*
SW_QUAD_CORNER_XY 571439.830 5191700.065 XY coords. of pri. SW quad corner*
SECONDARY_NW_QUAD_XY 571359.034 5198426.796 XY coords. - sec. NW quad cor.*
SECONDARY_NE_QUAD_XY 576116.272 5198485.568 XY coords. - sec. NE quad cor.*
SECONDARY_SE_QUAD_XY 576204.798 5191540.383 XY coords. - sec. SE quad cor.*
SECONDARY_SW_QUAD_XY 571442.026 5191481.602 XY coords. - sec. SW quad cor.*
RMSE_XY 1.70 doq horiz. accuracy*
IMAGE_SOURCE "BLACK AND WHITE FILM" b&w, cir, natural color, other*
SOURCE_IMAGE_ID "NAPP 9172 041" source image id*
SOURCE_IMAGE_DATE 1997 8 23 source image date as yyyy mm dd*
SOURCE_DEM_DATE 1971 00 00 source dem date yyyy mm dd*
AGENCY "ROCKY MOUNTAIN MAPPING CENTER (RMMC)" oversight agency*
PRODUCER "ROCKY MOUNTAIN MAPPING CENTER (RMMC)" *
PRODUCTION_SYSTEM "DV2.6.4 1/00 OV2.6 6/00" production system*
STANDARD_VERSION 1996 12 version of DOQ standard*
METADATA_DATE 2002 12 13 date created or changed, yyyy mm dd*
DATA_FILE_SIZE 41909565 data set size in bytes*
BYTE_COUNT 5505 header byte count*
