FILENAME: O4611050.NES.1004711.tif
QUADRANGLE_NAME: SIXTEEN NE
QUADRANT: NE
WEST_LONGITUDE: -110 48 45.00000
EAST_LONGITUDE: -110 45 0.00000
NORTH_LATITUDE: 46 15 0.00000
SOUTH_LATITUDE: 46 11 15.00000
PRODUCTION_DATE: 1999 5 10
RASTER_ORDER: LEFT_RIGHT/TOP_BOTTOM
BAND_ORGANIZATION: SINGLE FILE
BAND_CONTENT: BLACK&WHITE
BAND_CONTENT: UNDEFINED
BAND_CONTENT: UNDEFINED
BITS_PER_PIXEL: 8
SAMPLES_AND_LINES: 5500 7568
HORIZONTAL_DATUM: NAD83
HORIZONTAL_COORDINATE_SYSTEM: UTM
COORDINATE_ZONE: 12
HORIZONTAL_UNITS: METERS
HORIZONTAL_RESOLUTION: 1.00000
SECONDARY_HORIZONTAL_DATUM: NAD27
XY_ORIGIN: 514093.00000 5122156.00000
SECONDARY_XY_ORIGIN: 514152.36800 5121945.20300
NATION: US
STATE: MT
NW_QUAD_CORNER_XY: 514453.03100 5121841.90000
NE_QUAD_CORNER_XY: 519270.70700 5121855.18700
SE_QUAD_CORNERY_XY: 519292.58400 5114910.74400
SW_QUAD_CORNER_XY: 514469.43900 5114897.45600
SECONDARY_NW_QUAD_XY: 514453.47000 5121623.76800
SECONDARY_NE_QUAD_XY: 519271.29200 5121637.05500
SECONDARY_SE_QUAD_XY: 519293.16900 5114692.65100
SECONDARY_SW_QUAD_XY: 514469.87700 5114679.36300
RMSE_XY: 2.70000
IMAGE_SOURCE: BLACK AND WHITE FILM
SOURCE_IMAGE_ID: NAPP 9183 131
SOURCE_IMAGE_DATE: 1997 9 9
SOURCE_DEM_DATE: 1999 5 10
AGENCY: WESTERN MAPPING CENTER (WMC)
PRODUCER: WESTERN MAPPING CENTER (WMC)
PRODUCTION_SYSTEM: DV2.6.3 10/9OV2.4 5/95
COMPRESSION: UNDEFINED
STANDARD_VERSION: 1996 12
METADATA_DATE: 1999 5 24
DATA_FILE_SIZE: 41629500
BYTE_COUNT: 5500
