FILENAME: O4611053.SWS.1145748.tif
QUADRANGLE_NAME: VIRGINIA PEAK
QUADRANT: SW
WEST_LONGITUDE: -110 30 0.00000
EAST_LONGITUDE: -110 26 15.00000
NORTH_LATITUDE: 46 11 15.00000
SOUTH_LATITUDE: 46 7 30.00000
PRODUCTION_DATE: 2001 03 21
RASTER_ORDER: LEFT_RIGHT/TOP_BOTTOM
BAND_ORGANIZATION: SINGLE FILE
BAND_CONTENT: BLACK&WHITE
BAND_CONTENT: UNDEFINED
BAND_CONTENT: UNDEFINED
BITS_PER_PIXEL: 8
SAMPLES_AND_LINES: 5580 7620
HORIZONTAL_DATUM: NAD83
HORIZONTAL_COORDINATE_SYSTEM: UTM
COORDINATE_ZONE: 12
HORIZONTAL_UNITS: METERS
HORIZONTAL_RESOLUTION: 1.00000
SECONDARY_HORIZONTAL_DATUM: NAD27
XY_ORIGIN: 538200.00000 5115360.00000
SECONDARY_XY_ORIGIN: 538259.22400 5115148.85900
NATION: US
STATE: MT
NW_QUAD_CORNER_XY: 538585.15400 5115001.86200
NE_QUAD_CORNER_XY: 543408.29300 5115034.13400
SE_QUAD_CORNERY_XY: 543457.46500 5108089.77800
SW_QUAD_CORNER_XY: 538628.86300 5108057.50300
SECONDARY_NW_QUAD_XY: 538586.32300 5114783.77300
SECONDARY_NE_QUAD_XY: 543409.60700 5114816.04500
SECONDARY_SE_QUAD_XY: 543458.77900 5107871.72900
SECONDARY_SW_QUAD_XY: 538630.03100 5107839.45300
RMSE_XY: 3.97000
IMAGE_SOURCE: BLACK AND WHITE FILM
SOURCE_IMAGE_ID: NAPP 12009 62
SOURCE_IMAGE_DATE: 1999 08 17
SOURCE_IMAGE_ID: NAPP 12009 60
SOURCE_IMAGE_DATE: 1999 08 17
SOURCE_IMAGE_ID: NAPP 12009 64
SOURCE_IMAGE_DATE: 1999 08 17
SOURCE_DEM_DATE: 1993 00 00
AGENCY: WESTERN MAPPING CENTER (WMC)
PRODUCER: ANALYTICAL SURVEYS INC.
PRODUCTION_SYSTEM: ORBIT OR_RECTIFY V.5.2
COMPRESSION: UNDEFINED
STANDARD_VERSION: 1996 12
METADATA_DATE: 2001 05 24
DATA_FILE_SIZE: 42525180
BYTE_COUNT: 5580
