FILENAME: O4611056.SWS.1115240.tif
QUADRANGLE_NAME: PORCUPINE BUTTE
QUADRANT: SW
WEST_LONGITUDE: -110 7 30.00000
EAST_LONGITUDE: -110 3 45.00000
NORTH_LATITUDE: 46 11 15.00000
SOUTH_LATITUDE: 46 7 30.00000
PRODUCTION_DATE: 2000 11 10
RASTER_ORDER: LEFT_RIGHT/TOP_BOTTOM
BAND_ORGANIZATION: SINGLE FILE
BAND_CONTENT: BLACK&WHITE
BAND_CONTENT: UNDEFINED
BAND_CONTENT: UNDEFINED
BITS_PER_PIXEL: 8
SAMPLES_AND_LINES: 5580 7650
HORIZONTAL_DATUM: NAD83
HORIZONTAL_COORDINATE_SYSTEM: UTM
COORDINATE_ZONE: 12
HORIZONTAL_UNITS: METERS
HORIZONTAL_RESOLUTION: 1.00000
SECONDARY_HORIZONTAL_DATUM: NAD27
XY_ORIGIN: 567150.00000 5115630.00000
SECONDARY_XY_ORIGIN: 567209.31000 5115418.11500
NATION: US
STATE: MT
NW_QUAD_CORNER_XY: 567523.94900 5115252.44700
NE_QUAD_CORNER_XY: 572347.07200 5115307.50200
SE_QUAD_CORNERY_XY: 572429.03000 5108363.16900
SW_QUAD_CORNER_XY: 567600.44300 5108308.10900
SECONDARY_NW_QUAD_XY: 567525.99400 5115034.36500
SECONDARY_NE_QUAD_XY: 572349.26300 5115089.42100
SECONDARY_SE_QUAD_XY: 572431.22100 5108145.12800
SECONDARY_SW_QUAD_XY: 567602.48700 5108090.06700
RMSE_XY: 1.25000
IMAGE_SOURCE: BLACK AND WHITE FILM
SOURCE_IMAGE_ID: NAPP 9172 72
SOURCE_IMAGE_DATE: 1997 08 23
SOURCE_DEM_DATE: 1972 00 00
AGENCY: WESTERN MAPPING CENTER (WMC)
PRODUCER: ANALYTICAL SURVEYS INC.
PRODUCTION_SYSTEM: ORBIT OR_RECTIFY V.5.2
COMPRESSION: UNDEFINED
STANDARD_VERSION: 1996 12
METADATA_DATE: 2000 11 13
DATA_FILE_SIZE: 42692580
BYTE_COUNT: 5580
