FILENAME: O4611059.NES.1112062.tif
QUADRANGLE_NAME: COTTONWOOD RESERVOIR
QUADRANT: NE
WEST_LONGITUDE: -110 41 15.00000
EAST_LONGITUDE: -110 37 30.00000
NORTH_LATITUDE: 46 7 30.00000
SOUTH_LATITUDE: 46 3 45.00000
PRODUCTION_DATE: 2000 10 03
RASTER_ORDER: LEFT_RIGHT/TOP_BOTTOM
BAND_ORGANIZATION: SINGLE FILE
BAND_CONTENT: BLACK&WHITE
BAND_CONTENT: UNDEFINED
BAND_CONTENT: UNDEFINED
BITS_PER_PIXEL: 8
SAMPLES_AND_LINES: 5550 7590
HORIZONTAL_DATUM: NAD83
HORIZONTAL_COORDINATE_SYSTEM: UTM
COORDINATE_ZONE: 12
HORIZONTAL_UNITS: METERS
HORIZONTAL_RESOLUTION: 1.00000
SECONDARY_HORIZONTAL_DATUM: NAD27
XY_ORIGIN: 523770.00000 5108310.00000
SECONDARY_XY_ORIGIN: 523829.59000 5108099.33700
NATION: US
STATE: MT
NW_QUAD_CORNER_XY: 524143.04600 5107983.46300
NE_QUAD_CORNER_XY: 528971.65300 5108004.34600
SE_QUAD_CORNERY_XY: 529004.39900 5101060.05800
SW_QUAD_CORNER_XY: 524170.33500 5101039.17400
SECONDARY_NW_QUAD_XY: 524143.77600 5107765.41100
SECONDARY_NE_QUAD_XY: 528972.52900 5107786.29400
SECONDARY_SE_QUAD_XY: 529005.27500 5100842.04800
SECONDARY_SW_QUAD_XY: 524171.06500 5100821.16200
RMSE_XY: 1.13000
IMAGE_SOURCE: BLACK AND WHITE FILM
SOURCE_IMAGE_ID: NAPP 11006 60
SOURCE_IMAGE_DATE: 1998 07 21
SOURCE_DEM_DATE: 1972 00 00
AGENCY: WESTERN MAPPING CENTER (WMC)
PRODUCER: ANALYTICAL SURVEYS INC.
PRODUCTION_SYSTEM: ORBIT OR_RECTIFY V.5.2
COMPRESSION: UNDEFINED
STANDARD_VERSION: 1996 12
METADATA_DATE: 2000 10 03
DATA_FILE_SIZE: 42130050
BYTE_COUNT: 5550
