FILENAME: O4611062.NWS.1145694.tif
QUADRANGLE_NAME: CRAZY PEAK
QUADRANT: NW
WEST_LONGITUDE: -110 22 30.00000
EAST_LONGITUDE: -110 18 45.00000
NORTH_LATITUDE: 46 7 30.00000
SOUTH_LATITUDE: 46 3 45.00000
PRODUCTION_DATE: 2001 03 13
RASTER_ORDER: LEFT_RIGHT/TOP_BOTTOM
BAND_ORGANIZATION: SINGLE FILE
BAND_CONTENT: BLACK&WHITE
BAND_CONTENT: UNDEFINED
BAND_CONTENT: UNDEFINED
BITS_PER_PIXEL: 8
SAMPLES_AND_LINES: 5580 7620
HORIZONTAL_DATUM: NAD83
HORIZONTAL_COORDINATE_SYSTEM: UTM
COORDINATE_ZONE: 12
HORIZONTAL_UNITS: METERS
HORIZONTAL_RESOLUTION: 1.00000
SECONDARY_HORIZONTAL_DATUM: NAD27
XY_ORIGIN: 547920.00000 5108490.00000
SECONDARY_XY_ORIGIN: 547979.41200 5108278.88300
NATION: US
STATE: MT
NW_QUAD_CORNER_XY: 548286.06500 5108125.84900
NE_QUAD_CORNER_XY: 553114.66300 5108165.71800
SE_QUAD_CORNERY_XY: 553174.70000 5101221.44300
SW_QUAD_CORNER_XY: 548340.64400 5101181.57100
SECONDARY_NW_QUAD_XY: 548287.52600 5107907.80100
SECONDARY_NE_QUAD_XY: 553116.27000 5107947.67100
SECONDARY_SE_QUAD_XY: 553176.30600 5101003.43700
SECONDARY_SW_QUAD_XY: 548342.10400 5100963.56400
RMSE_XY: 3.60000
IMAGE_SOURCE: BLACK AND WHITE FILM
SOURCE_IMAGE_ID: NAPP 11009 97
SOURCE_IMAGE_DATE: 1998 07 22
SOURCE_IMAGE_ID: NAPP 11009 96
SOURCE_IMAGE_DATE: 1998 07 22
SOURCE_IMAGE_ID: NAPP 11009 98
SOURCE_IMAGE_DATE: 1998 07 22
SOURCE_IMAGE_ID: NAPP 9185 150
SOURCE_IMAGE_DATE: 1998 07 20
SOURCE_IMAGE_ID: NAPP 12010 33
SOURCE_IMAGE_DATE: 1999 08 18
SOURCE_DEM_DATE: 1993 00 00
AGENCY: WESTERN MAPPING CENTER (WMC)
PRODUCER: ANALYTICAL SURVEYS INC.
PRODUCTION_SYSTEM: ORBIT OR_RECTIFY V.5.2
COMPRESSION: UNDEFINED
STANDARD_VERSION: 1996 12
METADATA_DATE: 2001 03 19
DATA_FILE_SIZE: 42525180
BYTE_COUNT: 5580
