FILENAME: e:\updates\vol010_q1_2001\tiles\O4611063.NWS.tif
QUADRANGLE_NAME: AMELONG CREEK
QUADRANT: NW
WEST_LONGITUDE: -110 15 0.00000
EAST_LONGITUDE: -110 11 15.00000
NORTH_LATITUDE: 46 7 30.00000
SOUTH_LATITUDE: 46 3 45.00000
PRODUCTION_DATE: 2000 11 08
RASTER_ORDER: LEFT_RIGHT/TOP_BOTTOM
BAND_ORGANIZATION: SINGLE FILE
BAND_CONTENT: BLACK&WHITE
BAND_CONTENT: UNDEFINED
BAND_CONTENT: UNDEFINED
BITS_PER_PIXEL: 8
SAMPLES_AND_LINES: 5580 7650
HORIZONTAL_DATUM: NAD83
HORIZONTAL_COORDINATE_SYSTEM: UTM
COORDINATE_ZONE: 12
HORIZONTAL_UNITS: METERS
HORIZONTAL_RESOLUTION: 1.00000
SECONDARY_HORIZONTAL_DATUM: NAD27
XY_ORIGIN: 557580.00000 5108580.00000
SECONDARY_XY_ORIGIN: 557639.41600 5108368.72100
NATION: US
STATE: MT
NW_QUAD_CORNER_XY: 557943.25900 5108209.38400
NE_QUAD_CORNER_XY: 562771.85200 5108256.84800
SE_QUAD_CORNERY_XY: 562842.80600 5101312.58100
SW_QUAD_CORNER_XY: 558008.75400 5101265.11300
SECONDARY_NW_QUAD_XY: 557945.01200 5107991.33900
SECONDARY_NE_QUAD_XY: 562773.75100 5108038.80400
SECONDARY_SE_QUAD_XY: 562844.70400 5101094.57700
SECONDARY_SW_QUAD_XY: 558010.50700 5101047.10800
RMSE_XY: 4.29000
IMAGE_SOURCE: BLACK AND WHITE FILM
SOURCE_IMAGE_ID: NAPP 12010 61
SOURCE_IMAGE_DATE: 1999 08 18
SOURCE_IMAGE_ID: NAPP 12010 62
SOURCE_IMAGE_DATE: 1999 08 18
SOURCE_IMAGE_ID: NAPP 9185 83
SOURCE_IMAGE_DATE: 1998 07 20
SOURCE_DEM_DATE: 1993 00 00
AGENCY: WESTERN MAPPING CENTER (WMC)
PRODUCER: ANALYTICAL SURVEYS INC.
PRODUCTION_SYSTEM: ORBIT OR_RECTIFY V.5.2
COMPRESSION: UNDEFINED
STANDARD_VERSION: 1996 12
METADATA_DATE: 2000 11 27
DATA_FILE_SIZE: 42692580
BYTE_COUNT: 5580
