BEGIN_USGS_DOQ_HEADER *
QUADRANGLE_NAME "Heath" 3.75 or 7.5-min. name*
QUADRANT SE quadrant indicator if cell size = 3.75-minutes*
WEST_LONGITUDE -109 18 45.000 signed deg min sec SDDD MM SS.SSS*
EAST_LONGITUDE -109 15 0.000 signed deg min sec SDDD MM SS.SSS*
NORTH_LATITUDE 46 56 15.000 signed deg min sec SDDD MM SS.SSS*
SOUTH_LATITUDE 46 52 30.000 signed deg min sec SDDD MM SS.SSS*
PRODUCTION_DATE 2003 9 11 yyyy mm dd*
RASTER_ORDER left_right/top_bottom video display order*
BAND_ORGANIZATION "single file" single file or BSQ, or BIL or BIP*
BAND_CONTENT BLACK&WHITE black&white or red green blue*
BITS_PER_PIXEL 8 radiometric resolution*
SAMPLES_AND_LINES 5568 7655 number of columns and rows*
HORIZONTAL_DATUM NAD83 primary horizontal datum*
HORIZONTAL_COORDINATE_SYSTEM UTM *
COORDINATE_ZONE 12 coordinate system zone number*
HORIZONTAL_UNITS meters coordinate system units*
HORIZONTAL_RESOLUTION 1.00 pixel horiz. ground sample distance*
SECONDARY_HORIZONTAL_DATUM NAD27 secondary horizontal datum*
XY_ORIGIN 628086.310 5200004.650 coord. of upper left pixel pri. datum*
SECONDARY_XY_ORIGIN 628145.912 5199790.706 coord upper left pixel sec datum*
NATION US nation code*
STATE MT state fip code*
NW_QUAD_CORNER_XY 628441.457 5199600.860 XY coords. of pri. NW quad corner*
NE_QUAD_CORNER_XY 633198.452 5199705.149 XY coords. of pri. NE quad corner*
SE_QUAD_CORNER_XY 633353.402 5192760.077 XY coords. of pri. SE quad corner*
SW_QUAD_CORNER_XY 628590.870 5192655.773 XY coords. of pri. SW quad corner*
SECONDARY_NW_QUAD_XY 628445.410 5199382.397 XY coords. - sec. NW quad cor.*
SECONDARY_NE_QUAD_XY 633202.551 5199486.690 XY coords. - sec. NE quad cor.*
SECONDARY_SE_QUAD_XY 633357.501 5192541.647 XY coords. - sec. SE quad cor.*
SECONDARY_SW_QUAD_XY 628594.823 5192437.339 XY coords. - sec. SW quad cor.*
RMSE_XY 1.51 doq horiz. accuracy*
IMAGE_SOURCE "BLACK AND WHITE FILM" b&w, cir, natural color, other*
SOURCE_IMAGE_ID "NAPP 9153 121" source image id*
SOURCE_IMAGE_DATE 1997 8 28 source image date as yyyy mm dd*
SOURCE_IMAGE_ID "NAPP 9153 041" source image id*
SOURCE_IMAGE_DATE 1997 8 28 source image date as yyyy mm dd*
SOURCE_IMAGE_ID "NAPP 9153 122" source image id*
SOURCE_IMAGE_DATE 1997 8 28 source image date as yyyy mm dd*
SOURCE_IMAGE_ID "NAPP 9153 123" source image id*
SOURCE_IMAGE_DATE 1997 8 28 source image date as yyyy mm dd*
SOURCE_IMAGE_ID "NAPP 9153 042" source image id*
SOURCE_IMAGE_DATE 1997 8 28 source image date as yyyy mm dd*
SOURCE_IMAGE_ID "NAPP 9153 040" source image id*
SOURCE_IMAGE_DATE 1997 8 28 source image date as yyyy mm dd*
SOURCE_DEM_DATE 1968 1 1 source dem date yyyy mm dd*
AGENCY "ROCKY MOUNTAIN MAPPING CENTER (RMMC)" oversight agency*
PRODUCER "ROCKY MOUNTAIN MAPPING CENTER (RMMC)" producer/contractor*
PRODUCTION_SYSTEM "ImageStation OrthoPro 4, 0, 0, 5" production system*
STANDARD_VERSION 1996 12 version of DOQ standard*
METADATA_DATE 2003 9 11 date created or changed, yyyy mm dd*
DATA_FILE_SIZE 42628608 data set size in bytes*
BYTE_COUNT 5568 header byte count* * *
