FILENAME: O4610914.SWS.1150758.tif
QUADRANGLE_NAME: HALF MOON CANYON
QUADRANT: SW
WEST_LONGITUDE: -109 22 30.00000
EAST_LONGITUDE: -109 18 45.00000
NORTH_LATITUDE: 46 48 45.00000
SOUTH_LATITUDE: 46 45 0.00000
PRODUCTION_DATE: 2001 05 07
RASTER_ORDER: LEFT_RIGHT/TOP_BOTTOM
BAND_ORGANIZATION: SINGLE FILE
BAND_CONTENT: BLACK&WHITE
BAND_CONTENT: UNDEFINED
BAND_CONTENT: UNDEFINED
BITS_PER_PIXEL: 8
SAMPLES_AND_LINES: 5580 7680
HORIZONTAL_DATUM: NAD83
HORIZONTAL_COORDINATE_SYSTEM: UTM
COORDINATE_ZONE: 12
HORIZONTAL_UNITS: METERS
HORIZONTAL_RESOLUTION: 1.00000
SECONDARY_HORIZONTAL_DATUM: NAD27
XY_ORIGIN: 623610.00000 5186040.00000
SECONDARY_XY_ORIGIN: 623669.61200 5185826.48000
NATION: US
STATE: MT
NW_QUAD_CORNER_XY: 623972.05700 5185610.23100
NE_QUAD_CORNER_XY: 628740.12900 5185710.75400
SE_QUAD_CORNERY_XY: 628889.23400 5178765.80600
SW_QUAD_CORNER_XY: 624115.63700 5178665.27000
SECONDARY_NW_QUAD_XY: 623975.86300 5185391.82500
SECONDARY_NE_QUAD_XY: 628744.08100 5185492.35100
SECONDARY_SE_QUAD_XY: 628893.18500 5178547.43400
SECONDARY_SW_QUAD_XY: 624119.44200 5178446.89500
RMSE_XY: 3.87000
IMAGE_SOURCE: BLACK AND WHITE FILM
SOURCE_IMAGE_ID: NAPP 9153 118
SOURCE_IMAGE_DATE: 1997 08 28
SOURCE_IMAGE_ID: NAPP 11013 6
SOURCE_IMAGE_DATE: 1998 08 27
SOURCE_IMAGE_ID: NAPP 9153 116
SOURCE_IMAGE_DATE: 1997 08 28
SOURCE_DEM_DATE: 1993 00 00
AGENCY: WESTERN MAPPING CENTER (WMC)
PRODUCER: ANALYTICAL SURVEYS INC.
PRODUCTION_SYSTEM: ORBIT OR_RECTIFY V.5.2
COMPRESSION: UNDEFINED
STANDARD_VERSION: 1996 12
METADATA_DATE: 2001 05 11
DATA_FILE_SIZE: 42859980
BYTE_COUNT: 5580
