FILENAME: O4610914.SES.1150757.tif
QUADRANGLE_NAME: HALF MOON CANYON
QUADRANT: SE
WEST_LONGITUDE: -109 18 45.00000
EAST_LONGITUDE: -109 15 0.00000
NORTH_LATITUDE: 46 48 45.00000
SOUTH_LATITUDE: 46 45 0.00000
PRODUCTION_DATE: 2001 05 07
RASTER_ORDER: LEFT_RIGHT/TOP_BOTTOM
BAND_ORGANIZATION: SINGLE FILE
BAND_CONTENT: BLACK&WHITE
BAND_CONTENT: UNDEFINED
BAND_CONTENT: UNDEFINED
BITS_PER_PIXEL: 8
SAMPLES_AND_LINES: 5610 7680
HORIZONTAL_DATUM: NAD83
HORIZONTAL_COORDINATE_SYSTEM: UTM
COORDINATE_ZONE: 12
HORIZONTAL_UNITS: METERS
HORIZONTAL_RESOLUTION: 1.00000
SECONDARY_HORIZONTAL_DATUM: NAD27
XY_ORIGIN: 628380.00000 5186130.00000
SECONDARY_XY_ORIGIN: 628439.64800 5185916.50300
NATION: US
STATE: MT
NW_QUAD_CORNER_XY: 628740.12900 5185710.75400
NE_QUAD_CORNER_XY: 633508.19200 5185815.07300
SE_QUAD_CORNERY_XY: 633662.82200 5178870.13800
SW_QUAD_CORNER_XY: 628889.23400 5178765.80600
SECONDARY_NW_QUAD_XY: 628744.08100 5185492.35100
SECONDARY_NE_QUAD_XY: 633512.29000 5185596.67300
SECONDARY_SE_QUAD_XY: 633666.92000 5178651.77000
SECONDARY_SW_QUAD_XY: 628893.18500 5178547.43400
RMSE_XY: 3.91000
IMAGE_SOURCE: BLACK AND WHITE FILM
SOURCE_IMAGE_ID: NAPP 9136 46
SOURCE_IMAGE_DATE: 1996 09 10
SOURCE_IMAGE_ID: NAPP 9153 43
SOURCE_IMAGE_DATE: 1997 08 28
SOURCE_IMAGE_ID: NAPP 9153 118
SOURCE_IMAGE_DATE: 1997 08 28
SOURCE_IMAGE_ID: NAPP 9136 15
SOURCE_IMAGE_DATE: 1996 09 10
SOURCE_IMAGE_ID: NAPP 9136 48
SOURCE_IMAGE_DATE: 1996 09 10
SOURCE_DEM_DATE: 1993 00 00
AGENCY: WESTERN MAPPING CENTER (WMC)
PRODUCER: ANALYTICAL SURVEYS INC.
PRODUCTION_SYSTEM: ORBIT OR_RECTIFY V.5.2
COMPRESSION: UNDEFINED
STANDARD_VERSION: 1996 12
METADATA_DATE: 2001 05 11
DATA_FILE_SIZE: 43090410
BYTE_COUNT: 5610
