FILENAME: O4610914.NWS.1150756.tif
QUADRANGLE_NAME: HALF MOON CANYON
QUADRANT: NW
WEST_LONGITUDE: -109 22 30.00000
EAST_LONGITUDE: -109 18 45.00000
NORTH_LATITUDE: 46 52 30.00000
SOUTH_LATITUDE: 46 48 45.00000
PRODUCTION_DATE: 2001 05 07
RASTER_ORDER: LEFT_RIGHT/TOP_BOTTOM
BAND_ORGANIZATION: SINGLE FILE
BAND_CONTENT: BLACK&WHITE
BAND_CONTENT: UNDEFINED
BAND_CONTENT: UNDEFINED
BITS_PER_PIXEL: 8
SAMPLES_AND_LINES: 5610 7680
HORIZONTAL_DATUM: NAD83
HORIZONTAL_COORDINATE_SYSTEM: UTM
COORDINATE_ZONE: 12
HORIZONTAL_UNITS: METERS
HORIZONTAL_RESOLUTION: 1.00000
SECONDARY_HORIZONTAL_DATUM: NAD27
XY_ORIGIN: 623460.00000 5192970.00000
SECONDARY_XY_ORIGIN: 623519.62200 5192756.25000
NATION: US
STATE: MT
NW_QUAD_CORNER_XY: 623828.32900 5192555.26300
NE_QUAD_CORNER_XY: 628590.87000 5192655.77200
SE_QUAD_CORNERY_XY: 628740.12900 5185710.75400
SW_QUAD_CORNER_XY: 623972.05700 5185610.23100
SECONDARY_NW_QUAD_XY: 623832.13500 5192336.82600
SECONDARY_NE_QUAD_XY: 628594.82300 5192437.33900
SECONDARY_SE_QUAD_XY: 628744.08100 5185492.35100
SECONDARY_SW_QUAD_XY: 623975.86300 5185391.82500
RMSE_XY: 3.07000
IMAGE_SOURCE: BLACK AND WHITE FILM
SOURCE_IMAGE_ID: NAPP 9153 120
SOURCE_IMAGE_DATE: 1997 08 28
SOURCE_IMAGE_ID: NAPP 9153 43
SOURCE_IMAGE_DATE: 1997 08 28
SOURCE_IMAGE_ID: NAPP 9153 118
SOURCE_IMAGE_DATE: 1997 08 28
SOURCE_DEM_DATE: 1993 00 00
AGENCY: WESTERN MAPPING CENTER (WMC)
PRODUCER: ANALYTICAL SURVEYS INC.
PRODUCTION_SYSTEM: ORBIT OR_RECTIFY V.5.2
COMPRESSION: UNDEFINED
STANDARD_VERSION: 1996 12
METADATA_DATE: 2001 05 09
DATA_FILE_SIZE: 43090410
BYTE_COUNT: 5610
