FILENAME: O4610915.NWS.1150760.tif
QUADRANGLE_NAME: ALASKA BENCH
QUADRANT: NW
WEST_LONGITUDE: -109 15 0.00000
EAST_LONGITUDE: -109 11 15.00000
NORTH_LATITUDE: 46 52 30.00000
SOUTH_LATITUDE: 46 48 45.00000
PRODUCTION_DATE: 2001 05 07
RASTER_ORDER: LEFT_RIGHT/TOP_BOTTOM
BAND_ORGANIZATION: SINGLE FILE
BAND_CONTENT: BLACK&WHITE
BAND_CONTENT: UNDEFINED
BAND_CONTENT: UNDEFINED
BITS_PER_PIXEL: 8
SAMPLES_AND_LINES: 5610 7680
HORIZONTAL_DATUM: NAD83
HORIZONTAL_COORDINATE_SYSTEM: UTM
COORDINATE_ZONE: 12
HORIZONTAL_UNITS: METERS
HORIZONTAL_RESOLUTION: 1.00000
SECONDARY_HORIZONTAL_DATUM: NAD27
XY_ORIGIN: 632970.00000 5193180.00000
SECONDARY_XY_ORIGIN: 633029.63600 5192966.31100
NATION: US
STATE: MT
NW_QUAD_CORNER_XY: 633353.40200 5192760.07600
NE_QUAD_CORNER_XY: 638115.92300 5192868.17500
SE_QUAD_CORNERY_XY: 638276.24500 5185923.18700
SW_QUAD_CORNER_XY: 633508.19200 5185815.07300
SECONDARY_NW_QUAD_XY: 633357.50100 5192541.64600
SECONDARY_NE_QUAD_XY: 638120.16800 5192649.74800
SECONDARY_SE_QUAD_XY: 638280.48900 5185704.79000
SECONDARY_SW_QUAD_XY: 633512.29000 5185596.67300
RMSE_XY: 3.79000
IMAGE_SOURCE: BLACK AND WHITE FILM
SOURCE_IMAGE_ID: NAPP 9136 17
SOURCE_IMAGE_DATE: 1996 09 10
SOURCE_IMAGE_ID: NAPP 9153 43
SOURCE_IMAGE_DATE: 1997 08 28
SOURCE_DEM_DATE: 1993 00 00
AGENCY: WESTERN MAPPING CENTER (WMC)
PRODUCER: ANALYTICAL SURVEYS INC.
PRODUCTION_SYSTEM: ORBIT OR_RECTIFY V.5.2
COMPRESSION: UNDEFINED
STANDARD_VERSION: 1996 12
METADATA_DATE: 2001 05 09
DATA_FILE_SIZE: 43090410
BYTE_COUNT: 5610
