FILENAME: O4610916.SES.1150809.tif
QUADRANGLE_NAME: SOUTH BENCH
QUADRANT: SE
WEST_LONGITUDE: -109 3 45.00000
EAST_LONGITUDE: -109 0 0.00000
NORTH_LATITUDE: 46 48 45.00000
SOUTH_LATITUDE: 46 45 0.00000
PRODUCTION_DATE: 2001 05 17
RASTER_ORDER: LEFT_RIGHT/TOP_BOTTOM
BAND_ORGANIZATION: SINGLE FILE
BAND_CONTENT: BLACK&WHITE
BAND_CONTENT: UNDEFINED
BAND_CONTENT: UNDEFINED
BITS_PER_PIXEL: 8
SAMPLES_AND_LINES: 5640 7680
HORIZONTAL_DATUM: NAD83
HORIZONTAL_COORDINATE_SYSTEM: UTM
COORDINATE_ZONE: 12
HORIZONTAL_UNITS: METERS
HORIZONTAL_RESOLUTION: 1.00000
SECONDARY_HORIZONTAL_DATUM: NAD27
XY_ORIGIN: 647430.00000 5186580.00000
SECONDARY_XY_ORIGIN: 647489.30200 5186366.58000
NATION: US
STATE: MT
NW_QUAD_CORNER_XY: 647812.31900 5186150.80200
NE_QUAD_CORNER_XY: 652580.34000 5186270.30400
SE_QUAD_CORNERY_XY: 652757.07500 5179325.43100
SW_QUAD_CORNER_XY: 647983.52800 5179205.91300
SECONDARY_NW_QUAD_XY: 647816.85700 5185932.41300
SECONDARY_NE_QUAD_XY: 652585.02400 5186051.91800
SECONDARY_SE_QUAD_XY: 652761.75900 5179107.07600
SECONDARY_SW_QUAD_XY: 647988.06500 5178987.55400
RMSE_XY: 2.52000
IMAGE_SOURCE: BLACK AND WHITE FILM
SOURCE_IMAGE_ID: NAPP 9129 66
SOURCE_IMAGE_DATE: 1996 07 27
SOURCE_IMAGE_ID: NAPP 9129 68
SOURCE_IMAGE_DATE: 1996 07 27
SOURCE_DEM_DATE: 1993 00 00
AGENCY: WESTERN MAPPING CENTER (WMC)
PRODUCER: ANALYTICAL SURVEYS INC.
PRODUCTION_SYSTEM: ORBIT OR_RECTIFY V.5.2
COMPRESSION: UNDEFINED
STANDARD_VERSION: 1996 12
METADATA_DATE: 2001 05 18
DATA_FILE_SIZE: 43320840
BYTE_COUNT: 5640
