FILENAME: O4610916.NWS.1150808.tif
QUADRANGLE_NAME: SOUTH BENCH
QUADRANT: NW
WEST_LONGITUDE: -109 7 30.00000
EAST_LONGITUDE: -109 3 45.00000
NORTH_LATITUDE: 46 52 30.00000
SOUTH_LATITUDE: 46 48 45.00000
PRODUCTION_DATE: 2001 05 17
RASTER_ORDER: LEFT_RIGHT/TOP_BOTTOM
BAND_ORGANIZATION: SINGLE FILE
BAND_CONTENT: BLACK&WHITE
BAND_CONTENT: UNDEFINED
BAND_CONTENT: UNDEFINED
BITS_PER_PIXEL: 8
SAMPLES_AND_LINES: 5610 7710
HORIZONTAL_DATUM: NAD83
HORIZONTAL_COORDINATE_SYSTEM: UTM
COORDINATE_ZONE: 12
HORIZONTAL_UNITS: METERS
HORIZONTAL_RESOLUTION: 1.00000
SECONDARY_HORIZONTAL_DATUM: NAD27
XY_ORIGIN: 642510.00000 5193420.00000
SECONDARY_XY_ORIGIN: 642569.35400 5193206.37100
NATION: US
STATE: MT
NW_QUAD_CORNER_XY: 642878.43300 5192980.06900
NE_QUAD_CORNER_XY: 647640.93300 5193095.75900
SE_QUAD_CORNERY_XY: 647812.31900 5186150.80200
SW_QUAD_CORNER_XY: 643044.28700 5186035.09600
SECONDARY_NW_QUAD_XY: 642882.82500 5192761.64600
SECONDARY_NE_QUAD_XY: 647645.47100 5192877.33900
SECONDARY_SE_QUAD_XY: 647816.85700 5185932.41300
SECONDARY_SW_QUAD_XY: 643048.67800 5185816.70300
RMSE_XY: 4.06000
IMAGE_SOURCE: BLACK AND WHITE FILM
SOURCE_IMAGE_ID: NAPP 9129 174
SOURCE_IMAGE_DATE: 1996 07 27
SOURCE_IMAGE_ID: NAPP 9129 172
SOURCE_IMAGE_DATE: 1996 07 27
SOURCE_DEM_DATE: 1993 00 00
AGENCY: WESTERN MAPPING CENTER (WMC)
PRODUCER: ANALYTICAL SURVEYS INC.
PRODUCTION_SYSTEM: ORBIT OR_RECTIFY V.5.2
COMPRESSION: UNDEFINED
STANDARD_VERSION: 1996 12
METADATA_DATE: 2001 05 18
DATA_FILE_SIZE: 43258710
BYTE_COUNT: 5610
