FILENAME: O4610922.SES.1150769.tif
QUADRANGLE_NAME: GREEN ASHLY GULCH
QUADRANT: SE
WEST_LONGITUDE: -109 18 45.00000
EAST_LONGITUDE: -109 15 0.00000
NORTH_LATITUDE: 46 41 15.00000
SOUTH_LATITUDE: 46 37 30.00000
PRODUCTION_DATE: 2001 05 09
RASTER_ORDER: LEFT_RIGHT/TOP_BOTTOM
BAND_ORGANIZATION: SINGLE FILE
BAND_CONTENT: BLACK&WHITE
BAND_CONTENT: UNDEFINED
BAND_CONTENT: UNDEFINED
BITS_PER_PIXEL: 8
SAMPLES_AND_LINES: 5610 7680
HORIZONTAL_DATUM: NAD83
HORIZONTAL_COORDINATE_SYSTEM: UTM
COORDINATE_ZONE: 12
HORIZONTAL_UNITS: METERS
HORIZONTAL_RESOLUTION: 1.00000
SECONDARY_HORIZONTAL_DATUM: NAD27
XY_ORIGIN: 628680.00000 5172240.00000
SECONDARY_XY_ORIGIN: 628739.73700 5172026.86500
NATION: US
STATE: MT
NW_QUAD_CORNER_XY: 629038.18400 5171820.92700
NE_QUAD_CORNER_XY: 633817.29200 5171925.27300
SE_QUAD_CORNERY_XY: 633971.60200 5164980.47700
SW_QUAD_CORNER_XY: 629186.98000 5164876.11800
SECONDARY_NW_QUAD_XY: 629042.13500 5171602.58800
SECONDARY_NE_QUAD_XY: 633821.38900 5171706.93700
SECONDARY_SE_QUAD_XY: 633975.69800 5164762.17400
SECONDARY_SW_QUAD_XY: 629190.93000 5164657.81200
RMSE_XY: 2.97000
IMAGE_SOURCE: BLACK AND WHITE FILM
SOURCE_IMAGE_ID: NAPP 9153 49
SOURCE_IMAGE_DATE: 1997 08 28
SOURCE_DEM_DATE: 1993 00 00
AGENCY: WESTERN MAPPING CENTER (WMC)
PRODUCER: ANALYTICAL SURVEYS INC.
PRODUCTION_SYSTEM: ORBIT OR_RECTIFY V.5.2
COMPRESSION: UNDEFINED
STANDARD_VERSION: 1996 12
METADATA_DATE: 2001 05 11
DATA_FILE_SIZE: 43090410
BYTE_COUNT: 5610
