FILENAME: O4610922.NES.1150767.tif
QUADRANGLE_NAME: GREEN ASHLY GULCH
QUADRANT: NE
WEST_LONGITUDE: -109 18 45.00000
EAST_LONGITUDE: -109 15 0.00000
NORTH_LATITUDE: 46 45 0.00000
SOUTH_LATITUDE: 46 41 15.00000
PRODUCTION_DATE: 2001 05 09
RASTER_ORDER: LEFT_RIGHT/TOP_BOTTOM
BAND_ORGANIZATION: SINGLE FILE
BAND_CONTENT: BLACK&WHITE
BAND_CONTENT: UNDEFINED
BAND_CONTENT: UNDEFINED
BITS_PER_PIXEL: 8
SAMPLES_AND_LINES: 5610 7710
HORIZONTAL_DATUM: NAD83
HORIZONTAL_COORDINATE_SYSTEM: UTM
COORDINATE_ZONE: 12
HORIZONTAL_UNITS: METERS
HORIZONTAL_RESOLUTION: 1.00000
SECONDARY_HORIZONTAL_DATUM: NAD27
XY_ORIGIN: 628530.00000 5179200.00000
SECONDARY_XY_ORIGIN: 628589.69400 5178986.73000
NATION: US
STATE: MT
NW_QUAD_CORNER_XY: 628889.23400 5178765.80600
NE_QUAD_CORNER_XY: 633662.82200 5178870.13800
SE_QUAD_CORNERY_XY: 633817.29200 5171925.27300
SW_QUAD_CORNER_XY: 629038.18400 5171820.92700
SECONDARY_NW_QUAD_XY: 628893.18500 5178547.43400
SECONDARY_NE_QUAD_XY: 633666.92000 5178651.77000
SECONDARY_SE_QUAD_XY: 633821.38900 5171706.93700
SECONDARY_SW_QUAD_XY: 629042.13500 5171602.58800
RMSE_XY: 4.74000
IMAGE_SOURCE: BLACK AND WHITE FILM
SOURCE_IMAGE_ID: NAPP 9136 48
SOURCE_IMAGE_DATE: 1996 09 10
SOURCE_IMAGE_ID: NAPP 9136 46
SOURCE_IMAGE_DATE: 1996 09 10
SOURCE_IMAGE_ID: NAPP 9153 49
SOURCE_IMAGE_DATE: 1997 08 28
SOURCE_IMAGE_ID: NAPP 9153 116
SOURCE_IMAGE_DATE: 1997 08 28
SOURCE_DEM_DATE: 1993 00 00
AGENCY: WESTERN MAPPING CENTER (WMC)
PRODUCER: ANALYTICAL SURVEYS INC.
PRODUCTION_SYSTEM: ORBIT OR_RECTIFY V.5.2
COMPRESSION: UNDEFINED
STANDARD_VERSION: 1996 12
METADATA_DATE: 2001 05 11
DATA_FILE_SIZE: 43258710
BYTE_COUNT: 5610
