FILENAME: O4610924.NWS.1150812.tif
QUADRANGLE_NAME: SAHARA HILL
QUADRANT: NW
WEST_LONGITUDE: -109 7 30.00000
EAST_LONGITUDE: -109 3 45.00000
NORTH_LATITUDE: 46 45 0.00000
SOUTH_LATITUDE: 46 41 15.00000
PRODUCTION_DATE: 2001 05 17
RASTER_ORDER: LEFT_RIGHT/TOP_BOTTOM
BAND_ORGANIZATION: SINGLE FILE
BAND_CONTENT: BLACK&WHITE
BAND_CONTENT: UNDEFINED
BAND_CONTENT: UNDEFINED
BITS_PER_PIXEL: 8
SAMPLES_AND_LINES: 5640 7710
HORIZONTAL_DATUM: NAD83
HORIZONTAL_COORDINATE_SYSTEM: UTM
COORDINATE_ZONE: 12
HORIZONTAL_UNITS: METERS
HORIZONTAL_RESOLUTION: 1.00000
SECONDARY_HORIZONTAL_DATUM: NAD27
XY_ORIGIN: 642840.00000 5179530.00000
SECONDARY_XY_ORIGIN: 642899.52000 5179316.75300
NATION: US
STATE: MT
NW_QUAD_CORNER_XY: 643209.96900 5179090.19100
NE_QUAD_CORNER_XY: 647983.52800 5179205.91300
SE_QUAD_CORNERY_XY: 648154.55900 5172261.09000
SW_QUAD_CORNER_XY: 643375.48000 5172145.35400
SECONDARY_NW_QUAD_XY: 643214.36000 5178871.83000
SECONDARY_NE_QUAD_XY: 647988.06500 5178987.55400
SECONDARY_SE_QUAD_XY: 648159.09500 5172042.76400
SECONDARY_SW_QUAD_XY: 643379.87000 5171927.02500
RMSE_XY: 1.91000
IMAGE_SOURCE: BLACK AND WHITE FILM
SOURCE_IMAGE_ID: NAPP 9129 170
SOURCE_IMAGE_DATE: 1996 07 27
SOURCE_IMAGE_ID: NAPP 9139 187
SOURCE_IMAGE_DATE: 1996 08 26
SOURCE_DEM_DATE: 1979 00 00
AGENCY: WESTERN MAPPING CENTER (WMC)
PRODUCER: ANALYTICAL SURVEYS INC.
PRODUCTION_SYSTEM: ORBIT OR_RECTIFY V.5.2
COMPRESSION: UNDEFINED
STANDARD_VERSION: 1996 12
METADATA_DATE: 2001 06 20
DATA_FILE_SIZE: 43490040
BYTE_COUNT: 5640
