FILENAME: O4610929.SWS.1150778.tif
QUADRANGLE_NAME: HALBERT CREEK NORTH
QUADRANT: SW
WEST_LONGITUDE: -109 30 0.00000
EAST_LONGITUDE: -109 26 15.00000
NORTH_LATITUDE: 46 33 45.00000
SOUTH_LATITUDE: 46 30 0.00000
PRODUCTION_DATE: 2001 05 14
RASTER_ORDER: LEFT_RIGHT/TOP_BOTTOM
BAND_ORGANIZATION: SINGLE FILE
BAND_CONTENT: BLACK&WHITE
BAND_CONTENT: UNDEFINED
BAND_CONTENT: UNDEFINED
BITS_PER_PIXEL: 8
SAMPLES_AND_LINES: 5640 7680
HORIZONTAL_DATUM: NAD83
HORIZONTAL_COORDINATE_SYSTEM: UTM
COORDINATE_ZONE: 12
HORIZONTAL_UNITS: METERS
HORIZONTAL_RESOLUTION: 1.00000
SECONDARY_HORIZONTAL_DATUM: NAD27
XY_ORIGIN: 614580.00000 5158050.00000
SECONDARY_XY_ORIGIN: 614639.73400 5157837.10800
NATION: US
STATE: MT
NW_QUAD_CORNER_XY: 614965.18200 5157641.04900
NE_QUAD_CORNER_XY: 619755.33600 5157734.02900
SE_QUAD_CORNERY_XY: 619892.81800 5150789.33600
SW_QUAD_CORNER_XY: 615097.16300 5150696.34600
SECONDARY_NW_QUAD_XY: 614968.69300 5157422.76700
SECONDARY_NE_QUAD_XY: 619758.99300 5157515.75000
SECONDARY_SE_QUAD_XY: 619896.47400 5150571.09300
SECONDARY_SW_QUAD_XY: 615100.67200 5150478.09900
RMSE_XY: 1.34000
IMAGE_SOURCE: BLACK AND WHITE FILM
SOURCE_IMAGE_ID: NAPP 9153 230
SOURCE_IMAGE_DATE: 1997 08 28
SOURCE_DEM_DATE: 1986 00 00
AGENCY: WESTERN MAPPING CENTER (WMC)
PRODUCER: ANALYTICAL SURVEYS INC.
PRODUCTION_SYSTEM: ORBIT OR_RECTIFY V.5.2
COMPRESSION: UNDEFINED
STANDARD_VERSION: 1996 12
METADATA_DATE: 2001 05 15
DATA_FILE_SIZE: 43320840
BYTE_COUNT: 5640
