FILENAME: O4610929.SES.1150777.tif
QUADRANGLE_NAME: HALBERT CREEK NORTH
QUADRANT: SE
WEST_LONGITUDE: -109 26 15.00000
EAST_LONGITUDE: -109 22 30.00000
NORTH_LATITUDE: 46 33 45.00000
SOUTH_LATITUDE: 46 30 0.00000
PRODUCTION_DATE: 2001 05 14
RASTER_ORDER: LEFT_RIGHT/TOP_BOTTOM
BAND_ORGANIZATION: SINGLE FILE
BAND_CONTENT: BLACK&WHITE
BAND_CONTENT: UNDEFINED
BAND_CONTENT: UNDEFINED
BITS_PER_PIXEL: 8
SAMPLES_AND_LINES: 5610 7680
HORIZONTAL_DATUM: NAD83
HORIZONTAL_COORDINATE_SYSTEM: UTM
COORDINATE_ZONE: 12
HORIZONTAL_UNITS: METERS
HORIZONTAL_RESOLUTION: 1.00000
SECONDARY_HORIZONTAL_DATUM: NAD27
XY_ORIGIN: 619380.00000 5158140.00000
SECONDARY_XY_ORIGIN: 619439.76300 5157927.11800
NATION: US
STATE: MT
NW_QUAD_CORNER_XY: 619755.33600 5157734.02900
NE_QUAD_CORNER_XY: 624545.48300 5157830.80500
SE_QUAD_CORNERY_XY: 624688.46700 5150886.12400
SW_QUAD_CORNER_XY: 619892.81800 5150789.33600
SECONDARY_NW_QUAD_XY: 619758.99300 5157515.75000
SECONDARY_NE_QUAD_XY: 624549.28600 5157612.53000
SECONDARY_SE_QUAD_XY: 624692.26900 5150667.88300
SECONDARY_SW_QUAD_XY: 619896.47400 5150571.09300
RMSE_XY: 1.07000
IMAGE_SOURCE: BLACK AND WHITE FILM
SOURCE_IMAGE_ID: NAPP 9136 137
SOURCE_IMAGE_DATE: 1996 09 10
SOURCE_DEM_DATE: 1986 00 00
AGENCY: WESTERN MAPPING CENTER (WMC)
PRODUCER: ANALYTICAL SURVEYS INC.
PRODUCTION_SYSTEM: ORBIT OR_RECTIFY V.5.2
COMPRESSION: UNDEFINED
STANDARD_VERSION: 1996 12
METADATA_DATE: 2001 05 15
DATA_FILE_SIZE: 43090410
BYTE_COUNT: 5610
