FILENAME: O4610929.NES.1150775.tif
QUADRANGLE_NAME: HALBERT CREEK NORTH
QUADRANT: NE
WEST_LONGITUDE: -109 26 15.00000
EAST_LONGITUDE: -109 22 30.00000
NORTH_LATITUDE: 46 37 30.00000
SOUTH_LATITUDE: 46 33 45.00000
PRODUCTION_DATE: 2001 05 14
RASTER_ORDER: LEFT_RIGHT/TOP_BOTTOM
BAND_ORGANIZATION: SINGLE FILE
BAND_CONTENT: BLACK&WHITE
BAND_CONTENT: UNDEFINED
BAND_CONTENT: UNDEFINED
BITS_PER_PIXEL: 8
SAMPLES_AND_LINES: 5610 7680
HORIZONTAL_DATUM: NAD83
HORIZONTAL_COORDINATE_SYSTEM: UTM
COORDINATE_ZONE: 12
HORIZONTAL_UNITS: METERS
HORIZONTAL_RESOLUTION: 1.00000
SECONDARY_HORIZONTAL_DATUM: NAD27
XY_ORIGIN: 619260.00000 5165100.00000
SECONDARY_XY_ORIGIN: 619319.68700 5164886.97800
NATION: US
STATE: MT
NW_QUAD_CORNER_XY: 619617.71100 5164678.79100
NE_QUAD_CORNER_XY: 624402.35000 5164775.55700
SE_QUAD_CORNERY_XY: 624545.48300 5157830.80500
SW_QUAD_CORNER_XY: 619755.33600 5157734.02900
SECONDARY_NW_QUAD_XY: 619621.36800 5164460.47900
SECONDARY_NE_QUAD_XY: 624406.15300 5164557.24700
SECONDARY_SE_QUAD_XY: 624549.28600 5157612.53000
SECONDARY_SW_QUAD_XY: 619758.99300 5157515.75000
RMSE_XY: 1.39000
IMAGE_SOURCE: BLACK AND WHITE FILM
SOURCE_IMAGE_ID: NAPP 9136 139
SOURCE_IMAGE_DATE: 1996 09 10
SOURCE_DEM_DATE: 1986 00 00
AGENCY: WESTERN MAPPING CENTER (WMC)
PRODUCER: ANALYTICAL SURVEYS INC.
PRODUCTION_SYSTEM: ORBIT OR_RECTIFY V.5.2
COMPRESSION: UNDEFINED
STANDARD_VERSION: 1996 12
METADATA_DATE: 2001 05 15
DATA_FILE_SIZE: 43090410
BYTE_COUNT: 5610
