FILENAME: O4610937.NES.1150839.tif
QUADRANGLE_NAME: HALBERT CREEK SOUTH
QUADRANT: NE
WEST_LONGITUDE: -109 26 15.00000
EAST_LONGITUDE: -109 22 30.00000
NORTH_LATITUDE: 46 30 0.00000
SOUTH_LATITUDE: 46 26 15.00000
PRODUCTION_DATE: 2001 05 16
RASTER_ORDER: LEFT_RIGHT/TOP_BOTTOM
BAND_ORGANIZATION: SINGLE FILE
BAND_CONTENT: BLACK&WHITE
BAND_CONTENT: UNDEFINED
BAND_CONTENT: UNDEFINED
BITS_PER_PIXEL: 8
SAMPLES_AND_LINES: 5610 7680
HORIZONTAL_DATUM: NAD83
HORIZONTAL_COORDINATE_SYSTEM: UTM
COORDINATE_ZONE: 12
HORIZONTAL_UNITS: METERS
HORIZONTAL_RESOLUTION: 1.00000
SECONDARY_HORIZONTAL_DATUM: NAD27
XY_ORIGIN: 619530.00000 5151210.00000
SECONDARY_XY_ORIGIN: 619589.82900 5150997.25300
NATION: US
STATE: MT
NW_QUAD_CORNER_XY: 619892.81800 5150789.33600
NE_QUAD_CORNER_XY: 624688.46700 5150886.12400
SE_QUAD_CORNERY_XY: 624831.30100 5143941.51300
SW_QUAD_CORNER_XY: 620030.15600 5143844.71500
SECONDARY_NW_QUAD_XY: 619896.47400 5150571.09300
SECONDARY_NE_QUAD_XY: 624692.26900 5150667.88300
SECONDARY_SE_QUAD_XY: 624835.10300 5143723.30800
SECONDARY_SW_QUAD_XY: 620033.81200 5143626.50600
RMSE_XY: 1.41000
IMAGE_SOURCE: BLACK AND WHITE FILM
SOURCE_IMAGE_ID: NAPP 9136 135
SOURCE_IMAGE_DATE: 1996 09 10
SOURCE_DEM_DATE: 1986 00 00
AGENCY: WESTERN MAPPING CENTER (WMC)
PRODUCER: ANALYTICAL SURVEYS INC.
PRODUCTION_SYSTEM: ORBIT OR_RECTIFY V.5.2
COMPRESSION: UNDEFINED
STANDARD_VERSION: 1996 12
METADATA_DATE: 2001 05 16
DATA_FILE_SIZE: 43090410
BYTE_COUNT: 5610
