FILENAME: O4610938.NES.1150843.tif
QUADRANGLE_NAME: WALLUM
QUADRANT: NE
WEST_LONGITUDE: -109 18 45.00000
EAST_LONGITUDE: -109 15 0.00000
NORTH_LATITUDE: 46 30 0.00000
SOUTH_LATITUDE: 46 26 15.00000
PRODUCTION_DATE: 2001 05 16
RASTER_ORDER: LEFT_RIGHT/TOP_BOTTOM
BAND_ORGANIZATION: SINGLE FILE
BAND_CONTENT: BLACK&WHITE
BAND_CONTENT: UNDEFINED
BAND_CONTENT: UNDEFINED
BITS_PER_PIXEL: 8
SAMPLES_AND_LINES: 5640 7710
HORIZONTAL_DATUM: NAD83
HORIZONTAL_COORDINATE_SYSTEM: UTM
COORDINATE_ZONE: 12
HORIZONTAL_UNITS: METERS
HORIZONTAL_RESOLUTION: 1.00000
SECONDARY_HORIZONTAL_DATUM: NAD27
XY_ORIGIN: 629100.00000 5151420.00000
SECONDARY_XY_ORIGIN: 629159.84900 5151207.26600
NATION: US
STATE: MT
NW_QUAD_CORNER_XY: 629484.10700 5150986.70900
NE_QUAD_CORNER_XY: 634279.74000 5151091.09200
SE_QUAD_CORNERY_XY: 634433.56800 5144146.50300
SW_QUAD_CORNER_XY: 629632.43800 5144042.10900
SECONDARY_NW_QUAD_XY: 629488.05600 5150768.47100
SECONDARY_NE_QUAD_XY: 634283.83500 5150872.85700
SECONDARY_SE_QUAD_XY: 634437.66200 5143928.30400
SECONDARY_SW_QUAD_XY: 629636.38600 5143823.90700
RMSE_XY: 1.51000
IMAGE_SOURCE: BLACK AND WHITE FILM
SOURCE_IMAGE_ID: NAPP 9153 55
SOURCE_IMAGE_DATE: 1997 08 28
SOURCE_DEM_DATE: 1986 00 00
AGENCY: WESTERN MAPPING CENTER (WMC)
PRODUCER: ANALYTICAL SURVEYS INC.
PRODUCTION_SYSTEM: ORBIT OR_RECTIFY V.5.2
COMPRESSION: UNDEFINED
STANDARD_VERSION: 1996 12
METADATA_DATE: 2001 05 16
DATA_FILE_SIZE: 43490040
BYTE_COUNT: 5640
