FILENAME: O4610940.NES.1150823.tif
QUADRANGLE_NAME: CUSHMAN NE
QUADRANT: NE
WEST_LONGITUDE: -109 3 45.00000
EAST_LONGITUDE: -109 0 0.00000
NORTH_LATITUDE: 46 30 0.00000
SOUTH_LATITUDE: 46 26 15.00000
PRODUCTION_DATE: 2001 05 21
RASTER_ORDER: LEFT_RIGHT/TOP_BOTTOM
BAND_ORGANIZATION: SINGLE FILE
BAND_CONTENT: BLACK&WHITE
BAND_CONTENT: UNDEFINED
BAND_CONTENT: UNDEFINED
BITS_PER_PIXEL: 8
SAMPLES_AND_LINES: 5640 7710
HORIZONTAL_DATUM: NAD83
HORIZONTAL_COORDINATE_SYSTEM: UTM
COORDINATE_ZONE: 12
HORIZONTAL_UNITS: METERS
HORIZONTAL_RESOLUTION: 1.00000
SECONDARY_HORIZONTAL_DATUM: NAD27
XY_ORIGIN: 648300.00000 5151870.00000
SECONDARY_XY_ORIGIN: 648359.59700 5151657.31900
NATION: US
STATE: MT
NW_QUAD_CORNER_XY: 648666.58800 5151427.02900
NE_QUAD_CORNER_XY: 653462.18600 5151546.60500
SE_QUAD_CORNERY_XY: 653638.00500 5144602.06700
SW_QUAD_CORNER_XY: 648836.90900 5144482.47700
SECONDARY_NW_QUAD_XY: 648671.12200 5151208.80500
SECONDARY_NE_QUAD_XY: 653466.86600 5151328.38500
SECONDARY_SE_QUAD_XY: 653642.68400 5144383.88100
SECONDARY_SW_QUAD_XY: 648841.44100 5144264.28800
RMSE_XY: 1.26000
IMAGE_SOURCE: BLACK AND WHITE FILM
SOURCE_IMAGE_ID: NAPP 9129 76
SOURCE_IMAGE_DATE: 1996 07 27
SOURCE_DEM_DATE: 1986 00 00
AGENCY: WESTERN MAPPING CENTER (WMC)
PRODUCER: ANALYTICAL SURVEYS INC.
PRODUCTION_SYSTEM: ORBIT OR_RECTIFY V.5.2
COMPRESSION: UNDEFINED
STANDARD_VERSION: 1996 12
METADATA_DATE: 2001 05 21
DATA_FILE_SIZE: 43490040
BYTE_COUNT: 5640
