FILENAME: O4610947.SES.1150805.tif
QUADRANGLE_NAME: RYEGATE EAST
QUADRANT: SE
WEST_LONGITUDE: -109 11 15.00000
EAST_LONGITUDE: -109 7 30.00000
NORTH_LATITUDE: 46 18 45.00000
SOUTH_LATITUDE: 46 15 0.00000
PRODUCTION_DATE: 2001 05 16
RASTER_ORDER: LEFT_RIGHT/TOP_BOTTOM
BAND_ORGANIZATION: SINGLE FILE
BAND_CONTENT: BLACK&WHITE
BAND_CONTENT: UNDEFINED
BAND_CONTENT: UNDEFINED
BITS_PER_PIXEL: 8
SAMPLES_AND_LINES: 5670 7680
HORIZONTAL_DATUM: NAD83
HORIZONTAL_COORDINATE_SYSTEM: UTM
COORDINATE_ZONE: 12
HORIZONTAL_UNITS: METERS
HORIZONTAL_RESOLUTION: 1.00000
SECONDARY_HORIZONTAL_DATUM: NAD27
XY_ORIGIN: 639180.00000 5130780.00000
SECONDARY_XY_ORIGIN: 639240.08400 5130567.84300
NATION: US
STATE: MT
NW_QUAD_CORNER_XY: 639552.83900 5130365.74800
NE_QUAD_CORNER_XY: 644364.93100 5130477.76200
SE_QUAD_CORNERY_XY: 644529.23500 5123533.40200
SW_QUAD_CORNER_XY: 639711.66300 5123421.37700
SECONDARY_NW_QUAD_XY: 639557.07800 5130147.62600
SECONDARY_NE_QUAD_XY: 644369.31600 5130259.64400
SECONDARY_SE_QUAD_XY: 644533.61900 5123315.32100
SECONDARY_SW_QUAD_XY: 639715.90100 5123203.29300
RMSE_XY: 0.93000
IMAGE_SOURCE: BLACK AND WHITE FILM
SOURCE_IMAGE_ID: NAPP 9139 180
SOURCE_IMAGE_DATE: 1996 08 26
SOURCE_DEM_DATE: 1986 00 00
AGENCY: WESTERN MAPPING CENTER (WMC)
PRODUCER: ANALYTICAL SURVEYS INC.
PRODUCTION_SYSTEM: ORBIT OR_RECTIFY V.5.2
COMPRESSION: UNDEFINED
STANDARD_VERSION: 1996 12
METADATA_DATE: 2001 05 17
DATA_FILE_SIZE: 43551270
BYTE_COUNT: 5670
