FILENAME: O4610947.NES.1150803.tif
QUADRANGLE_NAME: RYEGATE EAST
QUADRANT: NE
WEST_LONGITUDE: -109 11 15.00000
EAST_LONGITUDE: -109 7 30.00000
NORTH_LATITUDE: 46 22 30.00000
SOUTH_LATITUDE: 46 18 45.00000
PRODUCTION_DATE: 2001 05 16
RASTER_ORDER: LEFT_RIGHT/TOP_BOTTOM
BAND_ORGANIZATION: SINGLE FILE
BAND_CONTENT: BLACK&WHITE
BAND_CONTENT: UNDEFINED
BAND_CONTENT: UNDEFINED
BITS_PER_PIXEL: 8
SAMPLES_AND_LINES: 5640 7710
HORIZONTAL_DATUM: NAD83
HORIZONTAL_COORDINATE_SYSTEM: UTM
COORDINATE_ZONE: 12
HORIZONTAL_UNITS: METERS
HORIZONTAL_RESOLUTION: 1.00000
SECONDARY_HORIZONTAL_DATUM: NAD27
XY_ORIGIN: 639030.00000 5137740.00000
SECONDARY_XY_ORIGIN: 639089.98300 5137527.65800
NATION: US
STATE: MT
NW_QUAD_CORNER_XY: 639393.84800 5137310.18800
NE_QUAD_CORNER_XY: 644200.45400 5137422.19100
SE_QUAD_CORNERY_XY: 644364.93100 5130477.76200
SW_QUAD_CORNER_XY: 639552.83900 5130365.74800
SECONDARY_NW_QUAD_XY: 639398.08700 5137092.02800
SECONDARY_NE_QUAD_XY: 644204.83900 5137204.03500
SECONDARY_SE_QUAD_XY: 644369.31600 5130259.64400
SECONDARY_SW_QUAD_XY: 639557.07800 5130147.62600
RMSE_XY: 1.23000
IMAGE_SOURCE: BLACK AND WHITE FILM
SOURCE_IMAGE_ID: NAPP 9139 182
SOURCE_IMAGE_DATE: 1996 08 26
SOURCE_IMAGE_ID: NAPP 9130 65
SOURCE_IMAGE_DATE: 1996 07 27
SOURCE_DEM_DATE: 1986 00 00
AGENCY: WESTERN MAPPING CENTER (WMC)
PRODUCER: ANALYTICAL SURVEYS INC.
PRODUCTION_SYSTEM: ORBIT OR_RECTIFY V.5.2
COMPRESSION: UNDEFINED
STANDARD_VERSION: 1996 12
METADATA_DATE: 2001 05 17
DATA_FILE_SIZE: 43490040
BYTE_COUNT: 5640
