FILENAME: O4610949.NWS.1115230.tif
QUADRANGLE_NAME: MELVILLE NW
QUADRANT: NW
WEST_LONGITUDE: -110 0 0.00000
EAST_LONGITUDE: -109 56 15.00000
NORTH_LATITUDE: 46 15 0.00000
SOUTH_LATITUDE: 46 11 15.00000
PRODUCTION_DATE: 2000 11 10
RASTER_ORDER: LEFT_RIGHT/TOP_BOTTOM
BAND_ORGANIZATION: SINGLE FILE
BAND_CONTENT: BLACK&WHITE
BAND_CONTENT: UNDEFINED
BAND_CONTENT: UNDEFINED
BITS_PER_PIXEL: 8
SAMPLES_AND_LINES: 5580 7620
HORIZONTAL_DATUM: NAD83
HORIZONTAL_COORDINATE_SYSTEM: UTM
COORDINATE_ZONE: 12
HORIZONTAL_UNITS: METERS
HORIZONTAL_RESOLUTION: 1.00000
SECONDARY_HORIZONTAL_DATUM: NAD27
XY_ORIGIN: 576720.00000 5122680.00000
SECONDARY_XY_ORIGIN: 576779.30100 5122467.45300
NATION: US
STATE: MT
NW_QUAD_CORNER_XY: 577082.67500 5122310.75600
NE_QUAD_CORNER_XY: 581900.32000 5122373.40000
SE_QUAD_CORNERY_XY: 581993.30600 5115429.00300
SW_QUAD_CORNER_XY: 577170.19100 5115366.35400
SECONDARY_NW_QUAD_XY: 577085.01300 5122092.63800
SECONDARY_NE_QUAD_XY: 581902.80400 5122155.28400
SECONDARY_SE_QUAD_XY: 581995.79000 5115210.92600
SECONDARY_SW_QUAD_XY: 577172.52800 5115148.27500
RMSE_XY: 2.90000
IMAGE_SOURCE: BLACK AND WHITE FILM
SOURCE_IMAGE_ID: NAPP 9154 137
SOURCE_IMAGE_DATE: 1997 08 28
SOURCE_DEM_DATE: 1985 00 00
AGENCY: WESTERN MAPPING CENTER (WMC)
PRODUCER: ANALYTICAL SURVEYS INC.
PRODUCTION_SYSTEM: ORBIT OR_RECTIFY V.5.2
COMPRESSION: UNDEFINED
STANDARD_VERSION: 1996 12
METADATA_DATE: 2000 11 13
DATA_FILE_SIZE: 42525180
BYTE_COUNT: 5580
