FILENAME: O4610951.NES.1115218.tif
QUADRANGLE_NAME: JIM CREEK
QUADRANT: NE
WEST_LONGITUDE: -109 41 15.00000
EAST_LONGITUDE: -109 37 30.00000
NORTH_LATITUDE: 46 15 0.00000
SOUTH_LATITUDE: 46 11 15.00000
PRODUCTION_DATE: 2000 11 16
RASTER_ORDER: LEFT_RIGHT/TOP_BOTTOM
BAND_ORGANIZATION: SINGLE FILE
BAND_CONTENT: BLACK&WHITE
BAND_CONTENT: UNDEFINED
BAND_CONTENT: UNDEFINED
BITS_PER_PIXEL: 8
SAMPLES_AND_LINES: 5610 7680
HORIZONTAL_DATUM: NAD83
HORIZONTAL_COORDINATE_SYSTEM: UTM
COORDINATE_ZONE: 12
HORIZONTAL_UNITS: METERS
HORIZONTAL_RESOLUTION: 1.00000
SECONDARY_HORIZONTAL_DATUM: NAD27
XY_ORIGIN: 600810.00000 5123070.00000
SECONDARY_XY_ORIGIN: 600869.67000 5122857.43500
NATION: US
STATE: MT
NW_QUAD_CORNER_XY: 601170.85500 5122661.95200
NE_QUAD_CORNER_XY: 605988.47600 5122743.58500
SE_QUAD_CORNERY_XY: 606108.82000 5115799.22100
SW_QUAD_CORNER_XY: 601285.72700 5115717.58100
SECONDARY_NW_QUAD_XY: 601173.92300 5122443.84500
SECONDARY_NE_QUAD_XY: 605991.69100 5122525.48000
SECONDARY_SE_QUAD_XY: 606112.03400 5115581.15600
SECONDARY_SW_QUAD_XY: 601288.79500 5115499.51300
RMSE_XY: 1.59000
IMAGE_SOURCE: BLACK AND WHITE FILM
SOURCE_IMAGE_ID: NAPP 9150 94
SOURCE_IMAGE_DATE: 1996 09 11
SOURCE_DEM_DATE: 1985 00 00
AGENCY: WESTERN MAPPING CENTER (WMC)
PRODUCER: ANALYTICAL SURVEYS INC.
PRODUCTION_SYSTEM: ORBIT OR_RECTIFY V.5.2
COMPRESSION: UNDEFINED
STANDARD_VERSION: 1996 12
METADATA_DATE: 2000 11 16
DATA_FILE_SIZE: 43090410
BYTE_COUNT: 5610
