FILENAME: O4610953.NES.1115225.tif
QUADRANGLE_NAME: O'BRIEN HILL
QUADRANT: NE
WEST_LONGITUDE: -109 26 15.00000
EAST_LONGITUDE: -109 22 30.00000
NORTH_LATITUDE: 46 15 0.00000
SOUTH_LATITUDE: 46 11 15.00000
PRODUCTION_DATE: 2000 11 16
RASTER_ORDER: LEFT_RIGHT/TOP_BOTTOM
BAND_ORGANIZATION: SINGLE FILE
BAND_CONTENT: BLACK&WHITE
BAND_CONTENT: UNDEFINED
BAND_CONTENT: UNDEFINED
BITS_PER_PIXEL: 8
SAMPLES_AND_LINES: 5640 7680
HORIZONTAL_DATUM: NAD83
HORIZONTAL_COORDINATE_SYSTEM: UTM
COORDINATE_ZONE: 12
HORIZONTAL_UNITS: METERS
HORIZONTAL_RESOLUTION: 1.00000
SECONDARY_HORIZONTAL_DATUM: NAD27
XY_ORIGIN: 620070.00000 5123430.00000
SECONDARY_XY_ORIGIN: 620130.10800 5123217.82000
NATION: US
STATE: MT
NW_QUAD_CORNER_XY: 620441.30800 5123011.27300
NE_QUAD_CORNER_XY: 625258.90600 5123108.10000
SE_QUAD_CORNERY_XY: 625401.14200 5116163.77000
SW_QUAD_CORNER_XY: 620578.07000 5116066.93400
SECONDARY_NW_QUAD_XY: 620444.96100 5122793.17700
SECONDARY_NE_QUAD_XY: 625262.70600 5122890.00700
SECONDARY_SE_QUAD_XY: 625404.94000 5115945.71500
SECONDARY_SW_QUAD_XY: 620581.72200 5115848.87700
RMSE_XY: 1.01000
IMAGE_SOURCE: BLACK AND WHITE FILM
SOURCE_IMAGE_ID: NAPP 9153 160
SOURCE_IMAGE_DATE: 1997 08 28
SOURCE_DEM_DATE: 1985 00 00
AGENCY: WESTERN MAPPING CENTER (WMC)
PRODUCER: ANALYTICAL SURVEYS INC.
PRODUCTION_SYSTEM: ORBIT OR_RECTIFY V.5.2
COMPRESSION: UNDEFINED
STANDARD_VERSION: 1996 12
METADATA_DATE: 2000 11 16
DATA_FILE_SIZE: 43320840
BYTE_COUNT: 5640
