FILENAME: O4610954.NES.1122967.tif
QUADRANGLE_NAME: LOCOMOTIVE BUTTE
QUADRANT: NE
WEST_LONGITUDE: -109 18 45.00000
EAST_LONGITUDE: -109 15 0.00000
NORTH_LATITUDE: 46 15 0.00000
SOUTH_LATITUDE: 46 11 15.00000
PRODUCTION_DATE: 2000 11 27
RASTER_ORDER: LEFT_RIGHT/TOP_BOTTOM
BAND_ORGANIZATION: SINGLE FILE
BAND_CONTENT: BLACK&WHITE
BAND_CONTENT: UNDEFINED
BAND_CONTENT: UNDEFINED
BITS_PER_PIXEL: 8
SAMPLES_AND_LINES: 5670 7710
HORIZONTAL_DATUM: NAD83
HORIZONTAL_COORDINATE_SYSTEM: UTM
COORDINATE_ZONE: 12
HORIZONTAL_UNITS: METERS
HORIZONTAL_RESOLUTION: 1.00000
SECONDARY_HORIZONTAL_DATUM: NAD27
XY_ORIGIN: 629700.00000 5123640.00000
SECONDARY_XY_ORIGIN: 629760.24300 5123427.94200
NATION: US
STATE: MT
NW_QUAD_CORNER_XY: 630076.49900 5123208.72700
NE_QUAD_CORNER_XY: 634894.08500 5123313.15200
SE_QUAD_CORNERY_XY: 635047.26700 5116368.84000
SW_QUAD_CORNER_XY: 630224.20800 5116264.40500
SECONDARY_NW_QUAD_XY: 630080.44400 5122990.63600
SECONDARY_NE_QUAD_XY: 634898.17600 5123095.06500
SECONDARY_SE_QUAD_XY: 635051.35800 5116150.79200
SECONDARY_SW_QUAD_XY: 630228.15200 5116046.35400
RMSE_XY: 1.25000
IMAGE_SOURCE: BLACK AND WHITE FILM
SOURCE_IMAGE_ID: NAPP 11010 37
SOURCE_IMAGE_DATE: 1998 08 13
SOURCE_IMAGE_ID: NAPP 11010 35
SOURCE_IMAGE_DATE: 1998 08 13
SOURCE_DEM_DATE: 1985 00 00
AGENCY: WESTERN MAPPING CENTER (WMC)
PRODUCER: ANALYTICAL SURVEYS INC.
PRODUCTION_SYSTEM: ORBIT OR_RECTIFY V.5.2
COMPRESSION: UNDEFINED
STANDARD_VERSION: 1996 12
METADATA_DATE: 2001 01 16
DATA_FILE_SIZE: 43721370
BYTE_COUNT: 5670
