FILENAME: O4610957.SWS.1115244.tif
QUADRANGLE_NAME: MELVILLE
QUADRANT: SW
WEST_LONGITUDE: -110 0 0.00000
EAST_LONGITUDE: -109 56 15.00000
NORTH_LATITUDE: 46 3 45.00000
SOUTH_LATITUDE: 46 0 0.00000
PRODUCTION_DATE: 2000 11 14
RASTER_ORDER: LEFT_RIGHT/TOP_BOTTOM
BAND_ORGANIZATION: SINGLE FILE
BAND_CONTENT: BLACK&WHITE
BAND_CONTENT: UNDEFINED
BAND_CONTENT: UNDEFINED
BITS_PER_PIXEL: 8
SAMPLES_AND_LINES: 5640 7650
HORIZONTAL_DATUM: NAD83
HORIZONTAL_COORDINATE_SYSTEM: UTM
COORDINATE_ZONE: 12
HORIZONTAL_UNITS: METERS
HORIZONTAL_RESOLUTION: 1.00000
SECONDARY_HORIZONTAL_DATUM: NAD27
XY_ORIGIN: 576960.00000 5101860.00000
SECONDARY_XY_ORIGIN: 577019.71400 5101648.51700
NATION: US
STATE: MT
NW_QUAD_CORNER_XY: 577344.94500 5101477.77100
NE_QUAD_CORNER_XY: 582178.98500 5101540.43100
SE_QUAD_CORNERY_XY: 582271.67600 5094596.25600
SW_QUAD_CORNER_XY: 577432.18300 5094533.59100
SECONDARY_NW_QUAD_XY: 577347.28100 5101259.77300
SECONDARY_NE_QUAD_XY: 582181.46700 5101322.43500
SECONDARY_SE_QUAD_XY: 582274.15800 5094378.30100
SECONDARY_SW_QUAD_XY: 577434.51800 5094315.63400
RMSE_XY: 1.33000
IMAGE_SOURCE: BLACK AND WHITE FILM
SOURCE_IMAGE_ID: NAPP 9154 143
SOURCE_IMAGE_DATE: 1997 08 28
SOURCE_DEM_DATE: 1985 00 00
AGENCY: WESTERN MAPPING CENTER (WMC)
PRODUCER: ANALYTICAL SURVEYS INC.
PRODUCTION_SYSTEM: ORBIT OR_RECTIFY V.5.2
COMPRESSION: UNDEFINED
STANDARD_VERSION: 1996 12
METADATA_DATE: 2000 11 15
DATA_FILE_SIZE: 43151640
BYTE_COUNT: 5640
