FILENAME: O4610958.SWS.1115248.tif
QUADRANGLE_NAME: UPPER GLASTON LAKE
QUADRANT: SW
WEST_LONGITUDE: -109 52 30.00000
EAST_LONGITUDE: -109 48 45.00000
NORTH_LATITUDE: 46 3 45.00000
SOUTH_LATITUDE: 46 0 0.00000
PRODUCTION_DATE: 2000 11 14
RASTER_ORDER: LEFT_RIGHT/TOP_BOTTOM
BAND_ORGANIZATION: SINGLE FILE
BAND_CONTENT: BLACK&WHITE
BAND_CONTENT: UNDEFINED
BAND_CONTENT: UNDEFINED
BITS_PER_PIXEL: 8
SAMPLES_AND_LINES: 5610 7650
HORIZONTAL_DATUM: NAD83
HORIZONTAL_COORDINATE_SYSTEM: UTM
COORDINATE_ZONE: 12
HORIZONTAL_UNITS: METERS
HORIZONTAL_RESOLUTION: 1.00000
SECONDARY_HORIZONTAL_DATUM: NAD27
XY_ORIGIN: 586650.00000 5101980.00000
SECONDARY_XY_ORIGIN: 586709.80700 5101768.48600
NATION: US
STATE: MT
NW_QUAD_CORNER_XY: 587013.02100 5101606.89000
NE_QUAD_CORNER_XY: 591847.05400 5101677.14600
SE_QUAD_CORNERY_XY: 591950.65300 5094732.98100
SW_QUAD_CORNER_XY: 587111.16600 5094662.71900
SECONDARY_NW_QUAD_XY: 587015.64900 5101388.89500
SECONDARY_NE_QUAD_XY: 591849.82800 5101459.15400
SECONDARY_SE_QUAD_XY: 591953.42700 5094515.03100
SECONDARY_SW_QUAD_XY: 587113.79400 5094444.76600
RMSE_XY: 2.12000
IMAGE_SOURCE: BLACK AND WHITE FILM
SOURCE_IMAGE_ID: NAPP 9150 190
SOURCE_IMAGE_DATE: 1996 09 11
SOURCE_DEM_DATE: 1985 00 00
AGENCY: WESTERN MAPPING CENTER (WMC)
PRODUCER: ANALYTICAL SURVEYS INC.
PRODUCTION_SYSTEM: ORBIT OR_RECTIFY V.5.2
COMPRESSION: UNDEFINED
STANDARD_VERSION: 1996 12
METADATA_DATE: 2000 11 14
DATA_FILE_SIZE: 42922110
BYTE_COUNT: 5610
