FILENAME: O4610959.SES.1115295.tif
QUADRANGLE_NAME: GIBSON SW
QUADRANT: SE
WEST_LONGITUDE: -109 41 15.00000
EAST_LONGITUDE: -109 37 30.00000
NORTH_LATITUDE: 46 3 45.00000
SOUTH_LATITUDE: 46 0 0.00000
PRODUCTION_DATE: 2000 11 16
RASTER_ORDER: LEFT_RIGHT/TOP_BOTTOM
BAND_ORGANIZATION: SINGLE FILE
BAND_CONTENT: BLACK&WHITE
BAND_CONTENT: UNDEFINED
BAND_CONTENT: UNDEFINED
BITS_PER_PIXEL: 8
SAMPLES_AND_LINES: 5640 7650
HORIZONTAL_DATUM: NAD83
HORIZONTAL_COORDINATE_SYSTEM: UTM
COORDINATE_ZONE: 12
HORIZONTAL_UNITS: METERS
HORIZONTAL_RESOLUTION: 1.00000
SECONDARY_HORIZONTAL_DATUM: NAD27
XY_ORIGIN: 601140.00000 5102220.00000
SECONDARY_XY_ORIGIN: 601199.95200 5102008.52300
NATION: US
STATE: MT
NW_QUAD_CORNER_XY: 601515.10700 5101829.05700
NE_QUAD_CORNER_XY: 606349.12700 5101910.71000
SE_QUAD_CORNERY_XY: 606469.09000 5094966.56300
SW_QUAD_CORNER_XY: 601629.61500 5094884.90300
SECONDARY_NW_QUAD_XY: 601518.17400 5101611.06900
SECONDARY_NE_QUAD_XY: 606352.34000 5101692.72500
SECONDARY_SE_QUAD_XY: 606472.30200 5094748.61900
SECONDARY_SW_QUAD_XY: 601632.68100 5094666.95700
RMSE_XY: 1.57000
IMAGE_SOURCE: BLACK AND WHITE FILM
SOURCE_IMAGE_ID: NAPP 9150 88
SOURCE_IMAGE_DATE: 1996 09 11
SOURCE_DEM_DATE: 1985 00 00
AGENCY: WESTERN MAPPING CENTER (WMC)
PRODUCER: ANALYTICAL SURVEYS INC.
PRODUCTION_SYSTEM: ORBIT OR_RECTIFY V.5.2
COMPRESSION: UNDEFINED
STANDARD_VERSION: 1996 12
METADATA_DATE: 2000 11 21
DATA_FILE_SIZE: 43151640
BYTE_COUNT: 5640
