FILENAME: O4610959.NWS.1115294.tif
QUADRANGLE_NAME: GIBSON SW
QUADRANT: NW
WEST_LONGITUDE: -109 45 0.00000
EAST_LONGITUDE: -109 41 15.00000
NORTH_LATITUDE: 46 7 30.00000
SOUTH_LATITUDE: 46 3 45.00000
PRODUCTION_DATE: 2000 11 16
RASTER_ORDER: LEFT_RIGHT/TOP_BOTTOM
BAND_ORGANIZATION: SINGLE FILE
BAND_CONTENT: BLACK&WHITE
BAND_CONTENT: UNDEFINED
BAND_CONTENT: UNDEFINED
BITS_PER_PIXEL: 8
SAMPLES_AND_LINES: 5640 7650
HORIZONTAL_DATUM: NAD83
HORIZONTAL_COORDINATE_SYSTEM: UTM
COORDINATE_ZONE: 12
HORIZONTAL_UNITS: METERS
HORIZONTAL_RESOLUTION: 1.00000
SECONDARY_HORIZONTAL_DATUM: NAD27
XY_ORIGIN: 596190.00000 5109090.00000
SECONDARY_XY_ORIGIN: 596249.78700 5108878.07800
NATION: US
STATE: MT
NW_QUAD_CORNER_XY: 596571.91300 5108695.43400
NE_QUAD_CORNER_XY: 601400.47800 5108773.28300
SE_QUAD_CORNERY_XY: 601515.10700 5101829.05700
SW_QUAD_CORNER_XY: 596681.08200 5101751.20200
SECONDARY_NW_QUAD_XY: 596574.83400 5108477.40400
SECONDARY_NE_QUAD_XY: 601403.54500 5108555.25400
SECONDARY_SE_QUAD_XY: 601518.17400 5101611.06900
SECONDARY_SW_QUAD_XY: 596684.00300 5101533.21200
RMSE_XY: 2.21000
IMAGE_SOURCE: BLACK AND WHITE FILM
SOURCE_IMAGE_ID: NAPP 9154 66
SOURCE_IMAGE_DATE: 1997 08 28
SOURCE_IMAGE_ID: NAPP 9154 64
SOURCE_IMAGE_DATE: 1997 08 28
SOURCE_DEM_DATE: 1985 00 00
AGENCY: WESTERN MAPPING CENTER (WMC)
PRODUCER: ANALYTICAL SURVEYS INC.
PRODUCTION_SYSTEM: ORBIT OR_RECTIFY V.5.2
COMPRESSION: UNDEFINED
STANDARD_VERSION: 1996 12
METADATA_DATE: 2000 11 21
DATA_FILE_SIZE: 43151640
BYTE_COUNT: 5640
