FILENAME: O4610960.NWS.1115298.tif
QUADRANGLE_NAME: GIBSON
QUADRANT: NW
WEST_LONGITUDE: -109 37 30.00000
EAST_LONGITUDE: -109 33 45.00000
NORTH_LATITUDE: 46 7 30.00000
SOUTH_LATITUDE: 46 3 45.00000
PRODUCTION_DATE: 2000 11 16
RASTER_ORDER: LEFT_RIGHT/TOP_BOTTOM
BAND_ORGANIZATION: SINGLE FILE
BAND_CONTENT: BLACK&WHITE
BAND_CONTENT: UNDEFINED
BAND_CONTENT: UNDEFINED
BITS_PER_PIXEL: 8
SAMPLES_AND_LINES: 5640 7680
HORIZONTAL_DATUM: NAD83
HORIZONTAL_COORDINATE_SYSTEM: UTM
COORDINATE_ZONE: 12
HORIZONTAL_UNITS: METERS
HORIZONTAL_RESOLUTION: 1.00000
SECONDARY_HORIZONTAL_DATUM: NAD27
XY_ORIGIN: 605850.00000 5109270.00000
SECONDARY_XY_ORIGIN: 605909.92900 5109058.24100
NATION: US
STATE: MT
NW_QUAD_CORNER_XY: 606229.03800 5108854.93000
NE_QUAD_CORNER_XY: 611057.59300 5108940.37600
SE_QUAD_CORNERY_XY: 611183.14300 5101996.16300
SW_QUAD_CORNER_XY: 606349.12700 5101910.71000
SECONDARY_NW_QUAD_XY: 606232.25100 5108636.90400
SECONDARY_NE_QUAD_XY: 611060.95200 5108722.35300
SECONDARY_SE_QUAD_XY: 611186.50200 5101778.18100
SECONDARY_SW_QUAD_XY: 606352.34000 5101692.72500
RMSE_XY: 1.99000
IMAGE_SOURCE: BLACK AND WHITE FILM
SOURCE_IMAGE_ID: NAPP 9150 43
SOURCE_IMAGE_DATE: 1996 09 11
SOURCE_IMAGE_ID: NAPP 9150 41
SOURCE_IMAGE_DATE: 1996 09 11
SOURCE_DEM_DATE: 1985 00 00
AGENCY: WESTERN MAPPING CENTER (WMC)
PRODUCER: ANALYTICAL SURVEYS INC.
PRODUCTION_SYSTEM: ORBIT OR_RECTIFY V.5.2
COMPRESSION: UNDEFINED
STANDARD_VERSION: 1996 12
METADATA_DATE: 2000 11 17
DATA_FILE_SIZE: 43320840
BYTE_COUNT: 5640
