FILENAME: O4610961.SES.1115303.tif
QUADRANGLE_NAME: LOCOMOTIVE BUTTE SW
QUADRANT: SE
WEST_LONGITUDE: -109 26 15.00000
EAST_LONGITUDE: -109 22 30.00000
NORTH_LATITUDE: 46 3 45.00000
SOUTH_LATITUDE: 46 0 0.00000
PRODUCTION_DATE: 2000 11 16
RASTER_ORDER: LEFT_RIGHT/TOP_BOTTOM
BAND_ORGANIZATION: SINGLE FILE
BAND_CONTENT: BLACK&WHITE
BAND_CONTENT: UNDEFINED
BAND_CONTENT: UNDEFINED
BITS_PER_PIXEL: 8
SAMPLES_AND_LINES: 5640 7680
HORIZONTAL_DATUM: NAD83
HORIZONTAL_COORDINATE_SYSTEM: UTM
COORDINATE_ZONE: 12
HORIZONTAL_UNITS: METERS
HORIZONTAL_RESOLUTION: 1.00000
SECONDARY_HORIZONTAL_DATUM: NAD27
XY_ORIGIN: 620490.00000 5102580.00000
SECONDARY_XY_ORIGIN: 620550.09000 5102368.78300
NATION: US
STATE: MT
NW_QUAD_CORNER_XY: 620851.16000 5102178.46700
NE_QUAD_CORNER_XY: 625685.16100 5102275.31900
SE_QUAD_CORNERY_XY: 625826.94600 5095331.19900
SW_QUAD_CORNER_XY: 620987.48900 5095234.34000
SECONDARY_NW_QUAD_XY: 620854.81100 5101960.49000
SECONDARY_NE_QUAD_XY: 625688.95800 5102057.34500
SECONDARY_SE_QUAD_XY: 625830.74200 5095113.26700
SECONDARY_SW_QUAD_XY: 620991.13900 5095016.40500
RMSE_XY: 1.79000
IMAGE_SOURCE: BLACK AND WHITE FILM
SOURCE_IMAGE_ID: NAPP 9153 166
SOURCE_IMAGE_DATE: 1997 08 28
SOURCE_DEM_DATE: 1985 00 00
AGENCY: WESTERN MAPPING CENTER (WMC)
PRODUCER: ANALYTICAL SURVEYS INC.
PRODUCTION_SYSTEM: ORBIT OR_RECTIFY V.5.2
COMPRESSION: UNDEFINED
STANDARD_VERSION: 1996 12
METADATA_DATE: 2000 11 17
DATA_FILE_SIZE: 43320840
BYTE_COUNT: 5640
