FILENAME: O4610961.NWS.1115302.tif
QUADRANGLE_NAME: LOCOMOTIVE BUTTE SW
QUADRANT: NW
WEST_LONGITUDE: -109 30 0.00000
EAST_LONGITUDE: -109 26 15.00000
NORTH_LATITUDE: 46 7 30.00000
SOUTH_LATITUDE: 46 3 45.00000
PRODUCTION_DATE: 2000 11 16
RASTER_ORDER: LEFT_RIGHT/TOP_BOTTOM
BAND_ORGANIZATION: SINGLE FILE
BAND_CONTENT: BLACK&WHITE
BAND_CONTENT: UNDEFINED
BAND_CONTENT: UNDEFINED
BITS_PER_PIXEL: 8
SAMPLES_AND_LINES: 5670 7680
HORIZONTAL_DATUM: NAD83
HORIZONTAL_COORDINATE_SYSTEM: UTM
COORDINATE_ZONE: 12
HORIZONTAL_UNITS: METERS
HORIZONTAL_RESOLUTION: 1.00000
SECONDARY_HORIZONTAL_DATUM: NAD27
XY_ORIGIN: 615510.00000 5109450.00000
SECONDARY_XY_ORIGIN: 615570.07200 5109238.40300
NATION: US
STATE: MT
NW_QUAD_CORNER_XY: 615886.14300 5109029.62100
NE_QUAD_CORNER_XY: 620714.68700 5109122.66500
SE_QUAD_CORNERY_XY: 620851.16000 5102178.46700
SW_QUAD_CORNER_XY: 616017.15400 5102085.41500
SECONDARY_NW_QUAD_XY: 615889.64800 5108811.60000
SECONDARY_NE_QUAD_XY: 620718.33900 5108904.64800
SECONDARY_SE_QUAD_XY: 620854.81100 5101960.49000
SECONDARY_SW_QUAD_XY: 616020.65900 5101867.43600
RMSE_XY: 1.40000
IMAGE_SOURCE: BLACK AND WHITE FILM
SOURCE_IMAGE_ID: NAPP 9153 216
SOURCE_IMAGE_DATE: 1997 08 28
SOURCE_DEM_DATE: 1985 00 00
AGENCY: WESTERN MAPPING CENTER (WMC)
PRODUCER: ANALYTICAL SURVEYS INC.
PRODUCTION_SYSTEM: ORBIT OR_RECTIFY V.5.2
COMPRESSION: UNDEFINED
STANDARD_VERSION: 1996 12
METADATA_DATE: 2000 11 17
DATA_FILE_SIZE: 43551270
BYTE_COUNT: 5670
