FILENAME: O4610963.SWS.1123010.tif
QUADRANGLE_NAME: HAILSTONE BASIN
QUADRANT: SW
WEST_LONGITUDE: -109 15 0.00000
EAST_LONGITUDE: -109 11 15.00000
NORTH_LATITUDE: 46 3 45.00000
SOUTH_LATITUDE: 46 0 0.00000
PRODUCTION_DATE: 2000 11 28
RASTER_ORDER: LEFT_RIGHT/TOP_BOTTOM
BAND_ORGANIZATION: SINGLE FILE
BAND_CONTENT: BLACK&WHITE
BAND_CONTENT: UNDEFINED
BAND_CONTENT: UNDEFINED
BITS_PER_PIXEL: 8
SAMPLES_AND_LINES: 5670 7710
HORIZONTAL_DATUM: NAD83
HORIZONTAL_COORDINATE_SYSTEM: UTM
COORDINATE_ZONE: 12
HORIZONTAL_UNITS: METERS
HORIZONTAL_RESOLUTION: 1.00000
SECONDARY_HORIZONTAL_DATUM: NAD27
XY_ORIGIN: 634980.00000 5102910.00000
SECONDARY_XY_ORIGIN: 635040.08900 5102698.95900
NATION: US
STATE: MT
NW_QUAD_CORNER_XY: 635353.14700 5102480.42400
NE_QUAD_CORNER_XY: 640187.13100 5102588.67600
SE_QUAD_CORNERY_XY: 640345.28500 5095644.58000
SW_QUAD_CORNER_XY: 635505.84400 5095536.31900
SECONDARY_NW_QUAD_XY: 635357.23600 5102262.45600
SECONDARY_NE_QUAD_XY: 640191.36600 5102370.71200
SECONDARY_SE_QUAD_XY: 640349.51900 5095426.65700
SECONDARY_SW_QUAD_XY: 635509.93200 5095318.39300
RMSE_XY: 2.47000
IMAGE_SOURCE: BLACK AND WHITE FILM
SOURCE_IMAGE_ID: NAPP 9153 21
SOURCE_IMAGE_DATE: 1997 08 28
SOURCE_IMAGE_ID: NAPP 9153 23
SOURCE_IMAGE_DATE: 1997 08 28
SOURCE_DEM_DATE: 1985 00 00
AGENCY: WESTERN MAPPING CENTER (WMC)
PRODUCER: ANALYTICAL SURVEYS INC.
PRODUCTION_SYSTEM: ORBIT OR_RECTIFY V.5.2
COMPRESSION: UNDEFINED
STANDARD_VERSION: 1996 12
METADATA_DATE: 2000 11 29
DATA_FILE_SIZE: 43721370
BYTE_COUNT: 5670
