BEGIN_USGS_DOQ_HEADER *
QUADRANGLE_NAME "Gage NE" 3.75 or 7.5-min. name*
QUADRANT SW quadrant indicator if cell size = 3.75-minutes*
WEST_LONGITUDE -108 22 30.000 signed deg min sec SDDD MM SS.SSS*
EAST_LONGITUDE -108 18 45.000 signed deg min sec SDDD MM SS.SSS*
NORTH_LATITUDE 46 26 15.000 signed deg min sec SDDD MM SS.SSS*
SOUTH_LATITUDE 46 22 30.000 signed deg min sec SDDD MM SS.SSS*
PRODUCTION_DATE 2003 5 8 yyyy mm dd*
RASTER_ORDER left_right/top_bottom video display order*
BAND_ORGANIZATION "single file" single file or BSQ, or BIL or BIP*
BAND_CONTENT BLACK&WHITE black&white or red green blue*
BITS_PER_PIXEL 8 radiometric resolution*
SAMPLES_AND_LINES 5690 7712 number of columns and rows*
HORIZONTAL_DATUM NAD83 primary horizontal datum*
HORIZONTAL_COORDINATE_SYSTEM UTM *
COORDINATE_ZONE 12 coordinate system zone number*
HORIZONTAL_UNITS meters coordinate system units*
HORIZONTAL_RESOLUTION 1.00 pixel horiz. ground sample distance*
SECONDARY_HORIZONTAL_DATUM NAD27 secondary horizontal datum*
XY_ORIGIN 701296.780 5146467.870 coord. of upper left pixel pri. datum*
SECONDARY_XY_ORIGIN 701355.063 5146255.059 coord upper left pixel sec datum*
NATION US nation code*
STATE MT state fip code*
NW_QUAD_CORNER_XY 701648.427 5146006.975 XY coords. of pri. NW quad corner*
NE_QUAD_CORNER_XY 706449.409 5146168.374 XY coords. of pri. NE quad corner*
SE_QUAD_CORNER_XY 706685.490 5139224.068 XY coords. of pri. SE quad corner*
SW_QUAD_CORNER_XY 701879.011 5139062.651 XY coords. of pri. SW quad corner*
SECONDARY_NW_QUAD_XY 701654.569 5145788.833 XY coords. - sec. NW quad cor.*
SECONDARY_NE_QUAD_XY 706455.697 5145950.237 XY coords. - sec. NE quad cor.*
SECONDARY_SE_QUAD_XY 706691.777 5139005.967 XY coords. - sec. SE quad cor.*
SECONDARY_SW_QUAD_XY 701885.151 5138844.545 XY coords. - sec. SW quad cor.*
RMSE_XY 0.99 doq horiz. accuracy*
IMAGE_SOURCE "BLACK AND WHITE FILM" b&w, cir, natural color, other*
SOURCE_IMAGE_ID "NAPP 9137 157" source image id*
SOURCE_IMAGE_DATE 1996 8 23 source image date as yyyy mm dd*
SOURCE_IMAGE_ID "NAPP 9137 156" source image id*
SOURCE_IMAGE_DATE 1996 8 23 source image date as yyyy mm dd*
SOURCE_IMAGE_ID "NAPP 9137 012" source image id*
SOURCE_IMAGE_DATE 1996 8 23 source image date as yyyy mm dd*
SOURCE_IMAGE_ID "NAPP 9137 010" source image id*
SOURCE_IMAGE_DATE 1996 8 23 source image date as yyyy mm dd*
SOURCE_IMAGE_ID "NAPP 9137 011" source image id*
SOURCE_IMAGE_DATE 1996 8 23 source image date as yyyy mm dd*
SOURCE_IMAGE_ID "NAPP 9137 158" source image id*
SOURCE_IMAGE_DATE 1996 8 23 source image date as yyyy mm dd*
SOURCE_IMAGE_ID "NAPP 9137 067" source image id*
SOURCE_IMAGE_DATE 1996 8 23 source image date as yyyy mm dd*
SOURCE_IMAGE_ID "NAPP 9137 065" source image id*
SOURCE_IMAGE_DATE 1996 8 23 source image date as yyyy mm dd*
SOURCE_IMAGE_ID "NAPP 9137 066" source image id*
SOURCE_IMAGE_DATE 1996 8 23 source image date as yyyy mm dd*
SOURCE_DEM_DATE 1973 1 1 source dem date yyyy mm dd*
AGENCY "ROCKY MOUNTAIN MAPPING CENTER (RMMC)" oversight agency*
PRODUCER "ROCKY MOUNTAIN MAPPING CENTER (RMMC)" producer/contractor*
PRODUCTION_SYSTEM "ImageStation OrthoPro 4, 0, 0, 5" production system*
STANDARD_VERSION 1996 12 version of DOQ standard*
METADATA_DATE 2003 5 8 date created or changed, yyyy mm dd*
DATA_FILE_SIZE 43886970 data set size in bytes*
BYTE_COUNT 5690 header byte count*
