BEGIN_USGS_DOQ_HEADER *
QUADRANGLE_NAME "Chimney Butte" 3.75 or 7.5-min. name*
QUADRANT SE quadrant indicator if cell size = 3.75-minutes*
WEST_LONGITUDE -108 11 15.000 signed deg min sec SDDD MM SS.SSS*
EAST_LONGITUDE -108 7 30.000 signed deg min sec SDDD MM SS.SSS*
NORTH_LATITUDE 46 26 15.000 signed deg min sec SDDD MM SS.SSS*
SOUTH_LATITUDE 46 22 30.000 signed deg min sec SDDD MM SS.SSS*
PRODUCTION_DATE 2003 5 8 yyyy mm dd*
RASTER_ORDER left_right/top_bottom video display order*
BAND_ORGANIZATION "single file" single file or BSQ, or BIL or BIP*
BAND_CONTENT BLACK&WHITE black&white or red green blue*
BITS_PER_PIXEL 8 radiometric resolution*
SAMPLES_AND_LINES 5706 7723 number of columns and rows*
HORIZONTAL_DATUM NAD83 primary horizontal datum*
HORIZONTAL_COORDINATE_SYSTEM UTM *
COORDINATE_ZONE 12 coordinate system zone number*
HORIZONTAL_UNITS meters coordinate system units*
HORIZONTAL_RESOLUTION 1.00 pixel horiz. ground sample distance*
SECONDARY_HORIZONTAL_DATUM NAD27 secondary horizontal datum*
XY_ORIGIN 715700.340 5146974.890 coord. of upper left pixel pri. datum*
SECONDARY_XY_ORIGIN 715758.411 5146761.683 coord upper left pixel sec datum*
NATION US nation code*
STATE MT state fip code*
NW_QUAD_CORNER_XY 716051.334 5146502.582 XY coords. of pri. NW quad corner*
NE_QUAD_CORNER_XY 720852.278 5146675.391 XY coords. of pri. NE quad corner*
SE_QUAD_CORNER_XY 721104.855 5139731.138 XY coords. of pri. SE quad corner*
SW_QUAD_CORNER_XY 716298.412 5139558.310 XY coords. of pri. SW quad corner*
SECONDARY_NW_QUAD_XY 716057.915 5146284.454 XY coords. - sec. NW quad cor.*
SECONDARY_NE_QUAD_XY 720859.005 5146457.269 XY coords. - sec. NE quad cor.*
SECONDARY_SE_QUAD_XY 721111.581 5139513.052 XY coords. - sec. SE quad cor.*
SECONDARY_SW_QUAD_XY 716304.992 5139340.219 XY coords. - sec. SW quad cor.*
RMSE_XY 1.15 doq horiz. accuracy*
IMAGE_SOURCE "BLACK AND WHITE FILM" b&w, cir, natural color, other*
SOURCE_IMAGE_ID "NAPP 9146 032" source image id*
SOURCE_IMAGE_DATE 1996 8 24 source image date as yyyy mm dd*
SOURCE_IMAGE_ID "NAPP 9143 051" source image id*
SOURCE_IMAGE_DATE 1996 8 24 source image date as yyyy mm dd*
SOURCE_IMAGE_ID "NAPP 9143 050" source image id*
SOURCE_IMAGE_DATE 1996 8 24 source image date as yyyy mm dd*
SOURCE_IMAGE_ID "NAPP 9146 031" source image id*
SOURCE_IMAGE_DATE 1996 8 24 source image date as yyyy mm dd*
SOURCE_IMAGE_ID "NAPP 9146 030" source image id*
SOURCE_IMAGE_DATE 1996 8 24 source image date as yyyy mm dd*
SOURCE_IMAGE_ID "NAPP 9143 052" source image id*
SOURCE_IMAGE_DATE 1996 8 24 source image date as yyyy mm dd*
SOURCE_IMAGE_ID "NAPP 9142 235" source image id*
SOURCE_IMAGE_DATE 1996 8 24 source image date as yyyy mm dd*
SOURCE_IMAGE_ID "NAPP 9142 237" source image id*
SOURCE_IMAGE_DATE 1996 8 24 source image date as yyyy mm dd*
SOURCE_IMAGE_ID "NAPP 9142 236" source image id*
SOURCE_IMAGE_DATE 1996 8 24 source image date as yyyy mm dd*
SOURCE_DEM_DATE 1973 1 1 source dem date yyyy mm dd*
AGENCY "ROCKY MOUNTAIN MAPPING CENTER (RMMC)" oversight agency*
PRODUCER "ROCKY MOUNTAIN MAPPING CENTER (RMMC)" producer/contractor*
PRODUCTION_SYSTEM "ImageStation OrthoPro 4, 0, 0, 5" production system*
STANDARD_VERSION 1996 12 version of DOQ standard*
METADATA_DATE 2003 5 8 date created or changed, yyyy mm dd*
DATA_FILE_SIZE 44073144 data set size in bytes*
BYTE_COUNT 5706 header byte count*
