BEGIN_USGS_DOQ_HEADER *
QUADRANGLE_NAME "Corey Flat" 3.75 or 7.5-min. name*
QUADRANT NE quadrant indicator if cell size = 3.75-minutes*
WEST_LONGITUDE -108 3 45.000 signed deg min sec SDDD MM SS.SSS*
EAST_LONGITUDE -108 0 0.000 signed deg min sec SDDD MM SS.SSS*
NORTH_LATITUDE 46 30 0.000 signed deg min sec SDDD MM SS.SSS*
SOUTH_LATITUDE 46 26 15.000 signed deg min sec SDDD MM SS.SSS*
PRODUCTION_DATE 2003 5 8 yyyy mm dd*
RASTER_ORDER left_right/top_bottom video display order*
BAND_ORGANIZATION "single file" single file or BSQ, or BIL or BIP*
BAND_CONTENT BLACK&WHITE black&white or red green blue*
BITS_PER_PIXEL 8 radiometric resolution*
SAMPLES_AND_LINES 5711 7730 number of columns and rows*
HORIZONTAL_DATUM NAD83 primary horizontal datum*
HORIZONTAL_COORDINATE_SYSTEM UTM *
COORDINATE_ZONE 12 coordinate system zone number*
HORIZONTAL_UNITS meters coordinate system units*
HORIZONTAL_RESOLUTION 1.00 pixel horiz. ground sample distance*
SECONDARY_HORIZONTAL_DATUM NAD27 secondary horizontal datum*
XY_ORIGIN 725044.300 5154276.190 coord. of upper left pixel pri. datum*
SECONDARY_XY_ORIGIN 725102.241 5154062.614 coord upper left pixel sec datum*
NATION US nation code*
STATE MT state fip code*
NW_QUAD_CORNER_XY 725394.862 5153796.294 XY coords. of pri. NW quad corner*
NE_QUAD_CORNER_XY 730190.274 5153976.691 XY coords. of pri. NE quad corner*
SE_QUAD_CORNER_XY 730454.126 5147032.421 XY coords. of pri. SE quad corner*
SW_QUAD_CORNER_XY 725653.209 5146852.003 XY coords. of pri. SW quad corner*
SECONDARY_NW_QUAD_XY 725401.737 5153578.142 XY coords. - sec. NW quad cor.*
SECONDARY_NE_QUAD_XY 730197.294 5153758.545 XY coords. - sec. NE quad cor.*
SECONDARY_SE_QUAD_XY 730461.146 5146814.310 XY coords. - sec. SE quad cor.*
SECONDARY_SW_QUAD_XY 725660.082 5146633.887 XY coords. - sec. SW quad cor.*
RMSE_XY 1.29 doq horiz. accuracy*
IMAGE_SOURCE "BLACK AND WHITE FILM" b&w, cir, natural color, other*
SOURCE_IMAGE_ID "NAPP 9142 233" source image id*
SOURCE_IMAGE_DATE 1996 8 24 source image date as yyyy mm dd*
SOURCE_IMAGE_ID "NAPP 9142 234" source image id*
SOURCE_IMAGE_DATE 1996 8 24 source image date as yyyy mm dd*
SOURCE_IMAGE_ID "NAPP 9142 235" source image id*
SOURCE_IMAGE_DATE 1996 8 24 source image date as yyyy mm dd*
SOURCE_IMAGE_ID "NAPP 9142 069" source image id*
SOURCE_IMAGE_DATE 1996 8 24 source image date as yyyy mm dd*
SOURCE_IMAGE_ID "NAPP 9142 068" source image id*
SOURCE_IMAGE_DATE 1996 8 24 source image date as yyyy mm dd*
SOURCE_IMAGE_ID "NAPP 9142 070" source image id*
SOURCE_IMAGE_DATE 1996 8 24 source image date as yyyy mm dd*
SOURCE_DEM_DATE 1973 1 1 source dem date yyyy mm dd*
AGENCY "ROCKY MOUNTAIN MAPPING CENTER (RMMC)" oversight agency*
PRODUCER "ROCKY MOUNTAIN MAPPING CENTER (RMMC)" producer/contractor*
PRODUCTION_SYSTEM "ImageStation OrthoPro 4, 0, 0, 5" production system*
STANDARD_VERSION 1996 12 version of DOQ standard*
METADATA_DATE 2003 5 8 date created or changed, yyyy mm dd*
DATA_FILE_SIZE 44151741 data set size in bytes*
BYTE_COUNT 5711 header byte count*
