FILENAME: O4610841.SES.1150829.tif
QUADRANGLE_NAME: LAVINA
QUADRANT: SE
WEST_LONGITUDE: -108 56 15.00000
EAST_LONGITUDE: -108 52 30.00000
NORTH_LATITUDE: 46 18 45.00000
SOUTH_LATITUDE: 46 15 0.00000
PRODUCTION_DATE: 2001 05 21
RASTER_ORDER: LEFT_RIGHT/TOP_BOTTOM
BAND_ORGANIZATION: SINGLE FILE
BAND_CONTENT: BLACK&WHITE
BAND_CONTENT: UNDEFINED
BAND_CONTENT: UNDEFINED
BITS_PER_PIXEL: 8
SAMPLES_AND_LINES: 5670 7710
HORIZONTAL_DATUM: NAD83
HORIZONTAL_COORDINATE_SYSTEM: UTM
COORDINATE_ZONE: 12
HORIZONTAL_UNITS: METERS
HORIZONTAL_RESOLUTION: 1.00000
SECONDARY_HORIZONTAL_DATUM: NAD27
XY_ORIGIN: 658440.00000 5131290.00000
SECONDARY_XY_ORIGIN: 658499.60000 5131077.89800
NATION: US
STATE: MT
NW_QUAD_CORNER_XY: 658801.15800 5130836.60400
NE_QUAD_CORNER_XY: 663613.21700 5130963.81800
SE_QUAD_CORNERY_XY: 663799.44700 5124019.50400
SW_QUAD_CORNER_XY: 658981.90600 5123892.27800
SECONDARY_NW_QUAD_XY: 658805.98200 5130618.49600
SECONDARY_NE_QUAD_XY: 663618.18700 5130745.71400
SECONDARY_SE_QUAD_XY: 663804.41600 5123801.43900
SECONDARY_SW_QUAD_XY: 658986.72800 5123674.20800
RMSE_XY: 1.61000
IMAGE_SOURCE: BLACK AND WHITE FILM
SOURCE_IMAGE_ID: NAPP 9147 77
SOURCE_IMAGE_DATE: 1996 08 24
SOURCE_DEM_DATE: 1988 00 00
AGENCY: WESTERN MAPPING CENTER (WMC)
PRODUCER: ANALYTICAL SURVEYS INC.
PRODUCTION_SYSTEM: ORBIT OR_RECTIFY V.5.2
COMPRESSION: UNDEFINED
STANDARD_VERSION: 1996 12
METADATA_DATE: 2001 05 22
DATA_FILE_SIZE: 43721370
BYTE_COUNT: 5670
