FILENAME: O4610846.SES.1006148.tif
QUADRANGLE_NAME: DUNN MOUNTAIN NORTH
QUADRANT: SE
WEST_LONGITUDE: -108 18 45.00000
EAST_LONGITUDE: -108 15 0.00000
NORTH_LATITUDE: 46 18 45.00000
SOUTH_LATITUDE: 46 15 0.00000
PRODUCTION_DATE: 1999 4 14
RASTER_ORDER: LEFT_RIGHT/TOP_BOTTOM
BAND_ORGANIZATION: SINGLE FILE
BAND_CONTENT: BLACK&WHITE
BAND_CONTENT: UNDEFINED
BAND_CONTENT: UNDEFINED
BITS_PER_PIXEL: 8
SAMPLES_AND_LINES: 5708 7718
HORIZONTAL_DATUM: NAD83
HORIZONTAL_COORDINATE_SYSTEM: UTM
COORDINATE_ZONE: 12
HORIZONTAL_UNITS: METERS
HORIZONTAL_RESOLUTION: 1.00000
SECONDARY_HORIZONTAL_DATUM: NAD27
XY_ORIGIN: 706568.00000 5132746.00000
SECONDARY_XY_ORIGIN: 706626.41100 5132533.34300
NATION: US
NATION: "SCIENCE
STATE: MT
NW_QUAD_CORNER_XY: 706921.32400 5132279.82000
NE_QUAD_CORNER_XY: 711733.28300 5132445.05600
SE_QUAD_CORNERY_XY: 711974.35600 5125500.88400
SW_QUAD_CORNER_XY: 707156.91000 5125335.63200
SECONDARY_NW_QUAD_XY: 706927.60900 5132061.75600
SECONDARY_NE_QUAD_XY: 711739.71500 5132226.99700
SECONDARY_SE_QUAD_XY: 711980.78700 5125282.86300
SECONDARY_SW_QUAD_XY: 707163.19400 5125117.60600
RMSE_XY: 3.10000
IMAGE_SOURCE: BLACK AND WHITE FILM
SOURCE_IMAGE_ID: NAPP 9160 169
SOURCE_IMAGE_DATE: 1997 09 23
SOURCE_IMAGE_ID: NAPP 9137 069
SOURCE_IMAGE_DATE: 1996 08 23
SOURCE_IMAGE_ID: NAPP 9146 036
SOURCE_IMAGE_DATE: 1996 08 24
SOURCE_DEM_DATE: 1973 00 00
AGENCY: WESTERN MAPPING CENTER (WMC)
PRODUCER: UNDEFINED
PRODUCTION_SYSTEM: GIS/MAGIC
COMPRESSION: UNDEFINED
STANDARD_VERSION: 1996 12
METADATA_DATE: 1999 05 18
DATA_FILE_SIZE: 44060052
BYTE_COUNT: 5708
