FILENAME: O4610847.SWS.1006360.tif
QUADRANGLE_NAME: CHERRY SPRING
QUADRANT: SW
WEST_LONGITUDE: -108 15 0.00000
EAST_LONGITUDE: -108 11 15.00000
NORTH_LATITUDE: 46 18 45.00000
SOUTH_LATITUDE: 46 15 0.00000
PRODUCTION_DATE: 1999 4 14
RASTER_ORDER: LEFT_RIGHT/TOP_BOTTOM
BAND_ORGANIZATION: SINGLE FILE
BAND_CONTENT: BLACK&WHITE
BAND_CONTENT: UNDEFINED
BAND_CONTENT: UNDEFINED
BITS_PER_PIXEL: 8
SAMPLES_AND_LINES: 5713 7722
HORIZONTAL_DATUM: NAD83
HORIZONTAL_COORDINATE_SYSTEM: UTM
COORDINATE_ZONE: 12
HORIZONTAL_UNITS: METERS
HORIZONTAL_RESOLUTION: 1.00000
SECONDARY_HORIZONTAL_DATUM: NAD27
XY_ORIGIN: 711380.00000 5132915.00000
SECONDARY_XY_ORIGIN: 711438.34000 5132702.24500
NATION: US
NATION: "SCIENCE
STATE: MT
NW_QUAD_CORNER_XY: 711733.28300 5132445.05600
NE_QUAD_CORNER_XY: 716545.23200 5132614.09600
SE_QUAD_CORNERY_XY: 716791.79200 5125669.94100
SW_QUAD_CORNER_XY: 711974.35600 5125500.88400
SECONDARY_NW_QUAD_XY: 711739.71500 5132226.99700
SECONDARY_NE_QUAD_XY: 716551.80900 5132396.04200
SECONDARY_SE_QUAD_XY: 716798.36800 5125451.92500
SECONDARY_SW_QUAD_XY: 711980.78700 5125282.86300
RMSE_XY: 4.00000
IMAGE_SOURCE: BLACK AND WHITE FILM
SOURCE_IMAGE_ID: NAPP 9146 035
SOURCE_IMAGE_DATE: 1996 08 24
SOURCE_IMAGE_ID: NAPP 9146 036
SOURCE_IMAGE_DATE: 1996 08 24
SOURCE_IMAGE_ID: NAPP 9146 034
SOURCE_IMAGE_DATE: 1996 08 24
SOURCE_IMAGE_ID: NAPP 9143 046
SOURCE_IMAGE_DATE: 1996 08 24
SOURCE_DEM_DATE: 1989 00 00
AGENCY: WESTERN MAPPING CENTER (WMC)
PRODUCER: UNDEFINED
PRODUCTION_SYSTEM: GIS/MAGIC
COMPRESSION: UNDEFINED
STANDARD_VERSION: 1996 12
METADATA_DATE: 1999 05 18
DATA_FILE_SIZE: 44121499
BYTE_COUNT: 5713
