FILENAME: O4610847.NWS.1006358.tif
QUADRANGLE_NAME: CHERRY SPRING
QUADRANT: NW
WEST_LONGITUDE: -108 15 0.00000
EAST_LONGITUDE: -108 11 15.00000
NORTH_LATITUDE: 46 22 30.00000
SOUTH_LATITUDE: 46 18 45.00000
PRODUCTION_DATE: 1999 4 14
RASTER_ORDER: LEFT_RIGHT/TOP_BOTTOM
BAND_ORGANIZATION: SINGLE FILE
BAND_CONTENT: BLACK&WHITE
BAND_CONTENT: UNDEFINED
BAND_CONTENT: UNDEFINED
BITS_PER_PIXEL: 8
SAMPLES_AND_LINES: 5708 7722
HORIZONTAL_DATUM: NAD83
HORIZONTAL_COORDINATE_SYSTEM: UTM
COORDINATE_ZONE: 12
HORIZONTAL_UNITS: METERS
HORIZONTAL_RESOLUTION: 1.00000
SECONDARY_HORIZONTAL_DATUM: NAD27
XY_ORIGIN: 711139.00000 5139859.00000
SECONDARY_XY_ORIGIN: 711197.23300 5139646.08200
NATION: US
NATION: "SCIENCE
STATE: MT
NW_QUAD_CORNER_XY: 711491.95700 5139389.28600
NE_QUAD_CORNER_XY: 716298.41200 5139558.31000
SE_QUAD_CORNERY_XY: 716545.23200 5132614.09600
SW_QUAD_CORNER_XY: 711733.28300 5132445.05600
SECONDARY_NW_QUAD_XY: 711498.39000 5139171.19000
SECONDARY_NE_QUAD_XY: 716304.99200 5139340.21900
SECONDARY_SE_QUAD_XY: 716551.80900 5132396.04200
SECONDARY_SW_QUAD_XY: 711739.71500 5132226.99700
RMSE_XY: 3.90000
IMAGE_SOURCE: BLACK AND WHITE FILM
SOURCE_IMAGE_ID: NAPP 9146 033
SOURCE_IMAGE_DATE: 1996 08 24
SOURCE_IMAGE_ID: NAPP 9146 034
SOURCE_IMAGE_DATE: 1996 08 24
SOURCE_IMAGE_ID: NAPP 9146 032
SOURCE_IMAGE_DATE: 1996 08 24
SOURCE_DEM_DATE: 1989 00 00
AGENCY: WESTERN MAPPING CENTER (WMC)
PRODUCER: UNDEFINED
PRODUCTION_SYSTEM: GIS/MAGIC
COMPRESSION: UNDEFINED
STANDARD_VERSION: 1996 12
METADATA_DATE: 1999 05 18
DATA_FILE_SIZE: 44082884
BYTE_COUNT: 5708
