FILENAME: O4610847.NES.1006357.tif
QUADRANGLE_NAME: CHERRY SPRING
QUADRANT: NE
WEST_LONGITUDE: -108 11 15.00000
EAST_LONGITUDE: -108 7 30.00000
NORTH_LATITUDE: 46 22 30.00000
SOUTH_LATITUDE: 46 18 45.00000
PRODUCTION_DATE: 1999 4 14
RASTER_ORDER: LEFT_RIGHT/TOP_BOTTOM
BAND_ORGANIZATION: SINGLE FILE
BAND_CONTENT: BLACK&WHITE
BAND_CONTENT: UNDEFINED
BAND_CONTENT: UNDEFINED
BITS_PER_PIXEL: 8
SAMPLES_AND_LINES: 5714 7726
HORIZONTAL_DATUM: NAD83
HORIZONTAL_COORDINATE_SYSTEM: UTM
COORDINATE_ZONE: 12
HORIZONTAL_UNITS: METERS
HORIZONTAL_RESOLUTION: 1.00000
SECONDARY_HORIZONTAL_DATUM: NAD27
XY_ORIGIN: 715945.00000 5140032.00000
SECONDARY_XY_ORIGIN: 716003.16300 5139818.94600
NATION: US
NATION: "SCIENCE
STATE: MT
NW_QUAD_CORNER_XY: 716298.41200 5139558.31000
NE_QUAD_CORNER_XY: 721104.85500 5139731.13700
SE_QUAD_CORNERY_XY: 721357.16800 5132786.94100
SW_QUAD_CORNER_XY: 716545.23200 5132614.09600
SECONDARY_NW_QUAD_XY: 716304.99200 5139340.21900
SECONDARY_NE_QUAD_XY: 721111.58100 5139513.05100
SECONDARY_SE_QUAD_XY: 721363.89200 5132568.89200
SECONDARY_SW_QUAD_XY: 716551.80900 5132396.04200
RMSE_XY: 2.20000
IMAGE_SOURCE: BLACK AND WHITE FILM
SOURCE_IMAGE_ID: NAPP 9143 049
SOURCE_IMAGE_DATE: 1996 08 24
SOURCE_IMAGE_ID: NAPP 9143 048
SOURCE_IMAGE_DATE: 1996 08 24
SOURCE_IMAGE_ID: NAPP 9142 237
SOURCE_IMAGE_DATE: 1996 08 24
SOURCE_DEM_DATE: 1989 00 00
AGENCY: WESTERN MAPPING CENTER (WMC)
PRODUCER: UNDEFINED
PRODUCTION_SYSTEM: GIS/MAGIC
COMPRESSION: UNDEFINED
STANDARD_VERSION: 1996 12
METADATA_DATE: 1999 05 18
DATA_FILE_SIZE: 44152078
BYTE_COUNT: 5714
