FILENAME: O4610851.SES.1005940.tif
QUADRANGLE_NAME: HAY BASIN NORTH
QUADRANT: SE
WEST_LONGITUDE: -108 41 15.00000
EAST_LONGITUDE: -108 37 30.00000
NORTH_LATITUDE: 46 11 15.00000
SOUTH_LATITUDE: 46 7 30.00000
PRODUCTION_DATE: 1999 5 4
RASTER_ORDER: LEFT_RIGHT/TOP_BOTTOM
BAND_ORGANIZATION: SINGLE FILE
BAND_CONTENT: BLACK&WHITE
BAND_CONTENT: UNDEFINED
BAND_CONTENT: UNDEFINED
BITS_PER_PIXEL: 8
SAMPLES_AND_LINES: 5688 7696
HORIZONTAL_DATUM: NAD83
HORIZONTAL_COORDINATE_SYSTEM: UTM
COORDINATE_ZONE: 12
HORIZONTAL_UNITS: METERS
HORIZONTAL_RESOLUTION: 1.00000
SECONDARY_HORIZONTAL_DATUM: NAD27
XY_ORIGIN: 678099.00000 5117923.00000
SECONDARY_XY_ORIGIN: 678158.16400 5117711.23700
NATION: US
NATION: "SCIENCE
STATE: MT
NW_QUAD_CORNER_XY: 678454.48300 5117479.78100
NE_QUAD_CORNER_XY: 683277.46700 5117622.22700
SE_QUAD_CORNERY_XY: 683485.19000 5110678.09100
SW_QUAD_CORNER_XY: 678656.73400 5110535.63300
SECONDARY_NW_QUAD_XY: 678459.88900 5117261.76600
SECONDARY_NE_QUAD_XY: 683283.01900 5117404.21600
SECONDARY_SE_QUAD_XY: 683490.74100 5110460.12100
SECONDARY_SW_QUAD_XY: 678662.13900 5110317.65800
RMSE_XY: 0.90000
IMAGE_SOURCE: BLACK AND WHITE FILM
SOURCE_IMAGE_ID: NAPP 9140 012
SOURCE_IMAGE_DATE: 1996 08 23
SOURCE_IMAGE_ID: NAPP 9138 302
SOURCE_IMAGE_DATE: 1996 08 23
SOURCE_IMAGE_ID: NAPP 9140 014
SOURCE_IMAGE_DATE: 1996 08 23
SOURCE_IMAGE_ID: NAPP 9138 228
SOURCE_IMAGE_DATE: 1996 08 23
SOURCE_DEM_DATE: 1973 00 00
AGENCY: WESTERN MAPPING CENTER (WMC)
PRODUCER: UNDEFINED
PRODUCTION_SYSTEM: GIS/MAGIC
COMPRESSION: UNDEFINED
STANDARD_VERSION: 1996 12
METADATA_DATE: 1999 05 18
DATA_FILE_SIZE: 43780536
BYTE_COUNT: 5688
